FILENAME: O4810957.NES.1080059.tif
QUADRANGLE_NAME: STUDHORSE BUTTE
QUADRANT: NE
WEST_LONGITUDE: -109 56 15.00000
EAST_LONGITUDE: -109 52 30.00000
NORTH_LATITUDE: 48 7 30.00000
SOUTH_LATITUDE: 48 3 45.00000
PRODUCTION_DATE: 2000 6 1
RASTER_ORDER: LEFT_RIGHT/TOP_BOTTOM
BAND_ORGANIZATION: SINGLE FILE
BAND_CONTENT: BLACK&WHITE
BAND_CONTENT: UNDEFINED
BAND_CONTENT: UNDEFINED
BITS_PER_PIXEL: 8
SAMPLES_AND_LINES: 5411 7619
HORIZONTAL_DATUM: NAD83
HORIZONTAL_COORDINATE_SYSTEM: UTM
COORDINATE_ZONE: 12
HORIZONTAL_UNITS: METERS
HORIZONTAL_RESOLUTION: 1.00000
SECONDARY_HORIZONTAL_DATUM: NAD27
XY_ORIGIN: 578708.00000 5331106.00000
SECONDARY_XY_ORIGIN: 578766.89700 5330889.92600
NATION: US
NATION: "SCIENCE
STATE: MT
NW_QUAD_CORNER_XY: 579065.58300 5330739.50600
NE_QUAD_CORNER_XY: 583716.43700 5330805.62100
SE_QUAD_CORNERY_XY: 583817.96100 5323859.03500
SW_QUAD_CORNER_XY: 579161.46600 5323792.90300
SECONDARY_NW_QUAD_XY: 579068.07700 5330520.61400
SECONDARY_NE_QUAD_XY: 583719.07800 5330586.73200
SECONDARY_SE_QUAD_XY: 583820.60200 5323640.15900
SECONDARY_SW_QUAD_XY: 579163.96000 5323574.02600
RMSE_XY: 0.80000
IMAGE_SOURCE: BLACK AND WHITE FILM
SOURCE_IMAGE_ID: NAPP 9128 253
SOURCE_IMAGE_DATE: 1996 07 29
SOURCE_IMAGE_ID: NAPP 9128 254
SOURCE_IMAGE_DATE: 1996 07 29
SOURCE_DEM_DATE: 1975 00 00
AGENCY: WESTERN MAPPING CENTER (WMC)
PRODUCER: UNDEFINED
PRODUCTION_SYSTEM: GIS/MAGIC
COMPRESSION: UNDEFINED
STANDARD_VERSION: 1996 12
METADATA_DATE: 2000 06 12
DATA_FILE_SIZE: 41231820
BYTE_COUNT: 5411
