FILENAME: O4810959.SWS.1080537.tif
QUADRANGLE_NAME: TIGER BUTTE
QUADRANT: SW
WEST_LONGITUDE: -109 45 0.00000
EAST_LONGITUDE: -109 41 15.00000
NORTH_LATITUDE: 48 3 45.00000
SOUTH_LATITUDE: 48 0 0.00000
PRODUCTION_DATE: 2000 6 2
RASTER_ORDER: LEFT_RIGHT/TOP_BOTTOM
BAND_ORGANIZATION: SINGLE FILE
BAND_CONTENT: BLACK&WHITE
BAND_CONTENT: UNDEFINED
BAND_CONTENT: UNDEFINED
BITS_PER_PIXEL: 8
SAMPLES_AND_LINES: 5434 7630
HORIZONTAL_DATUM: NAD83
HORIZONTAL_COORDINATE_SYSTEM: UTM
COORDINATE_ZONE: 12
HORIZONTAL_UNITS: METERS
HORIZONTAL_RESOLUTION: 1.00000
SECONDARY_HORIZONTAL_DATUM: NAD27
XY_ORIGIN: 592773.00000 5324381.00000
SECONDARY_XY_ORIGIN: 592831.94800 5324164.90300
NATION: US
NATION: "SCIENCE
STATE: MT
NW_QUAD_CORNER_XY: 593130.92000 5324002.63700
NE_QUAD_CORNER_XY: 597787.38200 5324080.10800
SE_QUAD_CORNERY_XY: 597905.71400 5317133.64500
SW_QUAD_CORNER_XY: 593243.61600 5317056.15600
SECONDARY_NW_QUAD_XY: 593133.85400 5323783.76600
SECONDARY_NE_QUAD_XY: 597790.46300 5323861.23900
SECONDARY_SE_QUAD_XY: 597908.79500 5316914.79000
SECONDARY_SW_QUAD_XY: 593246.55000 5316837.29900
RMSE_XY: 1.30000
IMAGE_SOURCE: BLACK AND WHITE FILM
SOURCE_IMAGE_ID: NAPP 9160 091
SOURCE_IMAGE_DATE: 1997 09 23
SOURCE_IMAGE_ID: NAPP 9160 046
SOURCE_IMAGE_DATE: 1997 09 23
SOURCE_IMAGE_ID: NAPP 9160 092
SOURCE_IMAGE_DATE: 1997 09 23
SOURCE_IMAGE_ID: NAPP 9160 090
SOURCE_IMAGE_DATE: 1997 09 23
SOURCE_DEM_DATE: 1975 00 00
AGENCY: WESTERN MAPPING CENTER (WMC)
PRODUCER: UNDEFINED
PRODUCTION_SYSTEM: GIS/MAGIC
COMPRESSION: UNDEFINED
STANDARD_VERSION: 1996 12
METADATA_DATE: 2000 06 14
DATA_FILE_SIZE: 41466854
BYTE_COUNT: 5434
