FILENAME: O4810959.NES.1080531.tif
QUADRANGLE_NAME: TIGER BUTTE
QUADRANT: NE
WEST_LONGITUDE: -109 41 15.00000
EAST_LONGITUDE: -109 37 30.00000
NORTH_LATITUDE: 48 7 30.00000
SOUTH_LATITUDE: 48 3 45.00000
PRODUCTION_DATE: 2000 6 2
RASTER_ORDER: LEFT_RIGHT/TOP_BOTTOM
BAND_ORGANIZATION: SINGLE FILE
BAND_CONTENT: BLACK&WHITE
BAND_CONTENT: UNDEFINED
BAND_CONTENT: UNDEFINED
BITS_PER_PIXEL: 8
SAMPLES_AND_LINES: 5433 7633
HORIZONTAL_DATUM: NAD83
HORIZONTAL_COORDINATE_SYSTEM: UTM
COORDINATE_ZONE: 12
HORIZONTAL_UNITS: METERS
HORIZONTAL_RESOLUTION: 1.00000
SECONDARY_HORIZONTAL_DATUM: NAD27
XY_ORIGIN: 597312.00000 5331408.00000
SECONDARY_XY_ORIGIN: 597370.95500 5331191.65800
NATION: US
NATION: "SCIENCE
STATE: MT
NW_QUAD_CORNER_XY: 597668.93200 5331026.64300
NE_QUAD_CORNER_XY: 602319.74000 5331107.87500
SE_QUAD_CORNERY_XY: 602443.83200 5324161.35900
SW_QUAD_CORNER_XY: 597787.38200 5324080.10800
SECONDARY_NW_QUAD_XY: 597672.01400 5330807.76100
SECONDARY_NE_QUAD_XY: 602322.96800 5330888.99500
SECONDARY_SE_QUAD_XY: 602447.06000 5323942.49300
SECONDARY_SW_QUAD_XY: 597790.46300 5323861.23900
RMSE_XY: 1.60000
IMAGE_SOURCE: BLACK AND WHITE FILM
SOURCE_IMAGE_ID: NAPP 9159 214
SOURCE_IMAGE_DATE: 1997 09 22
SOURCE_IMAGE_ID: NAPP 9159 215
SOURCE_IMAGE_DATE: 1997 09 22
SOURCE_IMAGE_ID: NAPP 9159 213
SOURCE_IMAGE_DATE: 1997 09 22
SOURCE_DEM_DATE: 1975 00 00
AGENCY: WESTERN MAPPING CENTER (WMC)
PRODUCER: UNDEFINED
PRODUCTION_SYSTEM: GIS/MAGIC
COMPRESSION: UNDEFINED
STANDARD_VERSION: 1996 12
METADATA_DATE: 2000 06 14
DATA_FILE_SIZE: 41475522
BYTE_COUNT: 5433
