FILENAME: O4810963.NES.1080649.tif
QUADRANGLE_NAME: RUNYAN BENCH
QUADRANT: NE
WEST_LONGITUDE: -109 11 15.00000
EAST_LONGITUDE: -109 7 30.00000
NORTH_LATITUDE: 48 7 30.00000
SOUTH_LATITUDE: 48 3 45.00000
PRODUCTION_DATE: 2000 5 19
RASTER_ORDER: LEFT_RIGHT/TOP_BOTTOM
BAND_ORGANIZATION: SINGLE FILE
BAND_CONTENT: BLACK&WHITE
BAND_CONTENT: UNDEFINED
BAND_CONTENT: UNDEFINED
BITS_PER_PIXEL: 8
SAMPLES_AND_LINES: 5477 7663
HORIZONTAL_DATUM: NAD83
HORIZONTAL_COORDINATE_SYSTEM: UTM
COORDINATE_ZONE: 12
HORIZONTAL_UNITS: METERS
HORIZONTAL_RESOLUTION: 1.00000
SECONDARY_HORIZONTAL_DATUM: NAD27
XY_ORIGIN: 634519.00000 5332194.00000
SECONDARY_XY_ORIGIN: 634577.49900 5331977.64300
NATION: US
NATION: "SCIENCE
STATE: MT
NW_QUAD_CORNER_XY: 634874.99100 5331782.33800
NE_QUAD_CORNER_XY: 639525.67700 5331893.81100
SE_QUAD_CORNERY_XY: 639694.91700 5324947.47900
SW_QUAD_CORNER_XY: 635038.58600 5324835.97900
SECONDARY_NW_QUAD_XY: 634879.24700 5331563.47900
SECONDARY_NE_QUAD_XY: 639530.07900 5331674.95600
SECONDARY_SE_QUAD_XY: 639699.31900 5324728.63700
SECONDARY_SW_QUAD_XY: 635042.84200 5324617.13400
RMSE_XY: 2.60000
IMAGE_SOURCE: BLACK AND WHITE FILM
SOURCE_IMAGE_ID: NAPP 9130 030
SOURCE_IMAGE_DATE: 1996 07 27
SOURCE_IMAGE_ID: NAPP 9130 031
SOURCE_IMAGE_DATE: 1996 07 27
SOURCE_IMAGE_ID: NAPP 9130 029
SOURCE_IMAGE_DATE: 1996 07 27
SOURCE_IMAGE_ID: NAPP 9129 213
SOURCE_IMAGE_DATE: 1996 07 27
SOURCE_DEM_DATE: 1987 00 00
AGENCY: WESTERN MAPPING CENTER (WMC)
PRODUCER: UNDEFINED
PRODUCTION_SYSTEM: GIS/MAGIC
COMPRESSION: UNDEFINED
STANDARD_VERSION: 1996 12
METADATA_DATE: 2000 06 14
DATA_FILE_SIZE: 41975728
BYTE_COUNT: 5477
