FILENAME: O4810964.SES.1080684.tif
QUADRANGLE_NAME: RATTLESNAKE
QUADRANT: SE
WEST_LONGITUDE: -109 3 45.00000
EAST_LONGITUDE: -109 0 0.00000
NORTH_LATITUDE: 48 3 45.00000
SOUTH_LATITUDE: 48 0 0.00000
PRODUCTION_DATE: 2000 5 31
RASTER_ORDER: LEFT_RIGHT/TOP_BOTTOM
BAND_ORGANIZATION: SINGLE FILE
BAND_CONTENT: BLACK&WHITE
BAND_CONTENT: UNDEFINED
BAND_CONTENT: UNDEFINED
BITS_PER_PIXEL: 8
SAMPLES_AND_LINES: 5493 7671
HORIZONTAL_DATUM: NAD83
HORIZONTAL_COORDINATE_SYSTEM: UTM
COORDINATE_ZONE: 12
HORIZONTAL_UNITS: METERS
HORIZONTAL_RESOLUTION: 1.00000
SECONDARY_HORIZONTAL_DATUM: NAD27
XY_ORIGIN: 643996.00000 5325482.00000
SECONDARY_XY_ORIGIN: 644054.57800 5325265.79900
NATION: US
NATION: "SCIENCE
STATE: MT
NW_QUAD_CORNER_XY: 644351.22900 5325062.76000
NE_QUAD_CORNER_XY: 649007.52400 5325181.82400
SE_QUAD_CORNERY_XY: 649187.87500 5318235.61300
SW_QUAD_CORNER_XY: 644525.94100 5318116.52200
SECONDARY_NW_QUAD_XY: 644355.77800 5324843.92300
SECONDARY_NE_QUAD_XY: 649012.21900 5324962.99000
SECONDARY_SE_QUAD_XY: 649192.57000 5318016.79400
SECONDARY_SW_QUAD_XY: 644530.48900 5317897.69900
RMSE_XY: 0.90000
IMAGE_SOURCE: BLACK AND WHITE FILM
SOURCE_IMAGE_ID: NAPP 9129 026
SOURCE_IMAGE_DATE: 1996 07 27
SOURCE_IMAGE_ID: NAPP 9129 211
SOURCE_IMAGE_DATE: 1996 07 27
SOURCE_IMAGE_ID: NAPP 9157 243
SOURCE_IMAGE_DATE: 1997 09 05
SOURCE_IMAGE_ID: NAPP 9129 025
SOURCE_IMAGE_DATE: 1996 07 27
SOURCE_IMAGE_ID: NAPP 9147 198
SOURCE_IMAGE_DATE: 1996 08 24
SOURCE_DEM_DATE: 1998 00 00
AGENCY: WESTERN MAPPING CENTER (WMC)
PRODUCER: UNDEFINED
PRODUCTION_SYSTEM: GIS/MAGIC
COMPRESSION: UNDEFINED
STANDARD_VERSION: 1996 12
METADATA_DATE: 2000 06 14
DATA_FILE_SIZE: 42142296
BYTE_COUNT: 5493
