FILENAME: O4810801.SWS.1112737.tif
QUADRANGLE_NAME: IRVINS COULEE
QUADRANT: SW
WEST_LONGITUDE: -109 0 0.00000
EAST_LONGITUDE: -108 56 15.00000
NORTH_LATITUDE: 48 56 15.00000
SOUTH_LATITUDE: 48 52 30.00000
PRODUCTION_DATE: 2000 10 30
RASTER_ORDER: LEFT_RIGHT/TOP_BOTTOM
BAND_ORGANIZATION: SINGLE FILE
BAND_CONTENT: BLACK&WHITE
BAND_CONTENT: UNDEFINED
BAND_CONTENT: UNDEFINED
BITS_PER_PIXEL: 8
SAMPLES_AND_LINES: 5421 7673
HORIZONTAL_DATUM: NAD83
HORIZONTAL_COORDINATE_SYSTEM: UTM
COORDINATE_ZONE: 12
HORIZONTAL_UNITS: METERS
HORIZONTAL_RESOLUTION: 1.00000
SECONDARY_HORIZONTAL_DATUM: NAD27
XY_ORIGIN: 646110.00000 5422859.00000
SECONDARY_XY_ORIGIN: 646166.73800 5422640.38700
NATION: US
NATION: "SCIENCE
STATE: MT
NW_QUAD_CORNER_XY: 646463.95400 5422435.77400
NE_QUAD_CORNER_XY: 651040.68700 5422558.16400
SE_QUAD_CORNERY_XY: 651229.23600 5415611.05700
SW_QUAD_CORNER_XY: 646646.78500 5415488.63000
SECONDARY_NW_QUAD_XY: 646468.65200 5422216.82700
SECONDARY_NE_QUAD_XY: 651045.53200 5422339.22100
SECONDARY_SE_QUAD_XY: 651234.08100 5415392.11700
SECONDARY_SW_QUAD_XY: 646651.48400 5415269.68600
RMSE_XY: 1.20000
IMAGE_SOURCE: BLACK AND WHITE FILM
SOURCE_IMAGE_ID: NAPP 9147 170
SOURCE_IMAGE_DATE: 1996 08 24
SOURCE_IMAGE_ID: NAPP 9145 169
SOURCE_IMAGE_DATE: 1996 08 25
SOURCE_DEM_DATE: 1975 00 00
AGENCY: WESTERN MAPPING CENTER (WMC)
PRODUCER: UNDEFINED
PRODUCTION_SYSTEM: GIS/MAGIC
COMPRESSION: UNDEFINED
STANDARD_VERSION: 1996 12
METADATA_DATE: 2000 11 30
DATA_FILE_SIZE: 41600754
BYTE_COUNT: 5421
