FILENAME: O4810801.SES.1112736.tif
QUADRANGLE_NAME: IRVINS COULEE
QUADRANT: SE
WEST_LONGITUDE: -108 56 15.00000
EAST_LONGITUDE: -108 52 30.00000
NORTH_LATITUDE: 48 56 15.00000
SOUTH_LATITUDE: 48 52 30.00000
PRODUCTION_DATE: 2000 10 30
RASTER_ORDER: LEFT_RIGHT/TOP_BOTTOM
BAND_ORGANIZATION: SINGLE FILE
BAND_CONTENT: BLACK&WHITE
BAND_CONTENT: UNDEFINED
BAND_CONTENT: UNDEFINED
BITS_PER_PIXEL: 8
SAMPLES_AND_LINES: 5426 7677
HORIZONTAL_DATUM: NAD83
HORIZONTAL_COORDINATE_SYSTEM: UTM
COORDINATE_ZONE: 12
HORIZONTAL_UNITS: METERS
HORIZONTAL_RESOLUTION: 1.00000
SECONDARY_HORIZONTAL_DATUM: NAD27
XY_ORIGIN: 650687.00000 5422985.00000
SECONDARY_XY_ORIGIN: 650743.78600 5422766.47900
NATION: US
NATION: "SCIENCE
STATE: MT
NW_QUAD_CORNER_XY: 651040.68700 5422558.16400
NE_QUAD_CORNER_XY: 655617.39600 5422684.32300
SE_QUAD_CORNERY_XY: 655811.66300 5415737.25300
SW_QUAD_CORNER_XY: 651229.23600 5415611.05700
SECONDARY_NW_QUAD_XY: 651045.53200 5422339.22100
SECONDARY_NE_QUAD_XY: 655622.38800 5422465.38400
SECONDARY_SE_QUAD_XY: 655816.65500 5415518.31700
SECONDARY_SW_QUAD_XY: 651234.08100 5415392.11700
RMSE_XY: 1.50000
IMAGE_SOURCE: BLACK AND WHITE FILM
SOURCE_IMAGE_ID: NAPP 9147 161
SOURCE_IMAGE_DATE: 1996 08 24
SOURCE_DEM_DATE: 1975 00 00
AGENCY: WESTERN MAPPING CENTER (WMC)
PRODUCER: UNDEFINED
PRODUCTION_SYSTEM: GIS/MAGIC
COMPRESSION: UNDEFINED
STANDARD_VERSION: 1996 12
METADATA_DATE: 2000 11 30
DATA_FILE_SIZE: 41660828
BYTE_COUNT: 5426
