FILENAME: O4810801.NES.1112734.tif
QUADRANGLE_NAME: IRVINS COULEE
QUADRANT: NE
WEST_LONGITUDE: -108 56 15.00000
EAST_LONGITUDE: -108 52 30.00000
NORTH_LATITUDE: 49 0 0.00000
SOUTH_LATITUDE: 48 56 15.00000
PRODUCTION_DATE: 2000 11 6
RASTER_ORDER: LEFT_RIGHT/TOP_BOTTOM
BAND_ORGANIZATION: SINGLE FILE
BAND_CONTENT: BLACK&WHITE
BAND_CONTENT: UNDEFINED
BAND_CONTENT: UNDEFINED
BITS_PER_PIXEL: 8
SAMPLES_AND_LINES: 5420 7677
HORIZONTAL_DATUM: NAD83
HORIZONTAL_COORDINATE_SYSTEM: UTM
COORDINATE_ZONE: 12
HORIZONTAL_UNITS: METERS
HORIZONTAL_RESOLUTION: 1.00000
SECONDARY_HORIZONTAL_DATUM: NAD27
XY_ORIGIN: 650499.00000 5429932.00000
SECONDARY_XY_ORIGIN: 650555.57900 5429713.25800
NATION: US
NATION: CA
NATION: "SCIENCE
STATE: MT
NW_QUAD_CORNER_XY: 650851.95700 5429505.33700
NE_QUAD_CORNER_XY: 655422.94200 5429631.45800
SE_QUAD_CORNERY_XY: 655617.39600 5422684.32300
SW_QUAD_CORNER_XY: 651040.68700 5422558.16400
SECONDARY_NW_QUAD_XY: 650856.80200 5429286.39200
SECONDARY_NE_QUAD_XY: 655427.93500 5429412.51700
SECONDARY_SE_QUAD_XY: 655622.38800 5422465.38400
SECONDARY_SW_QUAD_XY: 651045.53200 5422339.22100
RMSE_XY: 0.80000
IMAGE_SOURCE: BLACK AND WHITE FILM
SOURCE_IMAGE_ID: NAPP 9147 163
SOURCE_IMAGE_DATE: 1996 08 24
SOURCE_DEM_DATE: 1975 00 00
AGENCY: WESTERN MAPPING CENTER (WMC)
PRODUCER: UNDEFINED
PRODUCTION_SYSTEM: GIS/MAGIC
COMPRESSION: UNDEFINED
STANDARD_VERSION: 1996 12
METADATA_DATE: 2000 11 30
DATA_FILE_SIZE: 41614760
BYTE_COUNT: 5420
