FILENAME: O4810803.SWS.1112801.tif
QUADRANGLE_NAME: HOGELAND NW
QUADRANT: SW
WEST_LONGITUDE: -108 45 0.00000
EAST_LONGITUDE: -108 41 15.00000
NORTH_LATITUDE: 48 56 15.00000
SOUTH_LATITUDE: 48 52 30.00000
PRODUCTION_DATE: 2000 10 30
RASTER_ORDER: LEFT_RIGHT/TOP_BOTTOM
BAND_ORGANIZATION: SINGLE FILE
BAND_CONTENT: BLACK&WHITE
BAND_CONTENT: UNDEFINED
BAND_CONTENT: UNDEFINED
BITS_PER_PIXEL: 8
SAMPLES_AND_LINES: 5442 7688
HORIZONTAL_DATUM: NAD83
HORIZONTAL_COORDINATE_SYSTEM: UTM
COORDINATE_ZONE: 12
HORIZONTAL_UNITS: METERS
HORIZONTAL_RESOLUTION: 1.00000
SECONDARY_HORIZONTAL_DATUM: NAD27
XY_ORIGIN: 664418.00000 5423386.00000
SECONDARY_XY_ORIGIN: 664474.93100 5423167.75800
NATION: US
NATION: "SCIENCE
STATE: MT
NW_QUAD_CORNER_XY: 664770.73700 5422947.94600
NE_QUAD_CORNER_XY: 669347.36800 5423085.41200
SE_QUAD_CORNERY_XY: 669558.79000 5416138.46200
SW_QUAD_CORNER_XY: 664976.44100 5416000.95500
SECONDARY_NW_QUAD_XY: 664776.02300 5422729.01600
SECONDARY_NE_QUAD_XY: 669352.80100 5422866.48600
SECONDARY_SE_QUAD_XY: 669564.22300 5415919.53900
SECONDARY_SW_QUAD_XY: 664981.72600 5415782.02800
RMSE_XY: 1.30000
IMAGE_SOURCE: BLACK AND WHITE FILM
SOURCE_IMAGE_ID: NAPP 9144 224
SOURCE_IMAGE_DATE: 1996 08 25
SOURCE_DEM_DATE: 1993 00 00
AGENCY: WESTERN MAPPING CENTER (WMC)
PRODUCER: UNDEFINED
PRODUCTION_SYSTEM: GIS/MAGIC
COMPRESSION: UNDEFINED
STANDARD_VERSION: 1996 12
METADATA_DATE: 2000 11 30
DATA_FILE_SIZE: 41843538
BYTE_COUNT: 5442
