FILENAME: O4810803.NWS.1112799.tif
QUADRANGLE_NAME: HOGELAND NW
QUADRANT: NW
WEST_LONGITUDE: -108 45 0.00000
EAST_LONGITUDE: -108 41 15.00000
NORTH_LATITUDE: 49 0 0.00000
SOUTH_LATITUDE: 48 56 15.00000
PRODUCTION_DATE: 2000 11 6
RASTER_ORDER: LEFT_RIGHT/TOP_BOTTOM
BAND_ORGANIZATION: SINGLE FILE
BAND_CONTENT: BLACK&WHITE
BAND_CONTENT: UNDEFINED
BAND_CONTENT: UNDEFINED
BITS_PER_PIXEL: 8
SAMPLES_AND_LINES: 5437 7688
HORIZONTAL_DATUM: NAD83
HORIZONTAL_COORDINATE_SYSTEM: UTM
COORDINATE_ZONE: 12
HORIZONTAL_UNITS: METERS
HORIZONTAL_RESOLUTION: 1.00000
SECONDARY_HORIZONTAL_DATUM: NAD27
XY_ORIGIN: 664212.00000 5430333.00000
SECONDARY_XY_ORIGIN: 664268.77200 5430114.54100
NATION: US
NATION: CA
NATION: "SCIENCE
STATE: MT
NW_QUAD_CORNER_XY: 664564.83600 5429895.00200
NE_QUAD_CORNER_XY: 669135.74300 5430032.42600
SE_QUAD_CORNERY_XY: 669347.36800 5423085.41200
SW_QUAD_CORNER_XY: 664770.73700 5422947.94600
SECONDARY_NW_QUAD_XY: 664570.12200 5429676.07000
SECONDARY_NE_QUAD_XY: 669141.17500 5429813.49800
SECONDARY_SE_QUAD_XY: 669352.80100 5422866.48600
SECONDARY_SW_QUAD_XY: 664776.02300 5422729.01600
RMSE_XY: 0.80000
IMAGE_SOURCE: BLACK AND WHITE FILM
SOURCE_IMAGE_ID: NAPP 9144 222
SOURCE_IMAGE_DATE: 1996 08 25
SOURCE_DEM_DATE: 1993 00 00
AGENCY: WESTERN MAPPING CENTER (WMC)
PRODUCER: UNDEFINED
PRODUCTION_SYSTEM: GIS/MAGIC
COMPRESSION: UNDEFINED
STANDARD_VERSION: 1996 12
METADATA_DATE: 2000 11 30
DATA_FILE_SIZE: 41805093
BYTE_COUNT: 5437
