FILENAME: O4810803.NES.1112798.tif
QUADRANGLE_NAME: HOGELAND NW
QUADRANT: NE
WEST_LONGITUDE: -108 41 15.00000
EAST_LONGITUDE: -108 37 30.00000
NORTH_LATITUDE: 49 0 0.00000
SOUTH_LATITUDE: 48 56 15.00000
PRODUCTION_DATE: 2000 11 6
RASTER_ORDER: LEFT_RIGHT/TOP_BOTTOM
BAND_ORGANIZATION: SINGLE FILE
BAND_CONTENT: BLACK&WHITE
BAND_CONTENT: UNDEFINED
BAND_CONTENT: UNDEFINED
BITS_PER_PIXEL: 8
SAMPLES_AND_LINES: 5442 7692
HORIZONTAL_DATUM: NAD83
HORIZONTAL_COORDINATE_SYSTEM: UTM
COORDINATE_ZONE: 12
HORIZONTAL_UNITS: METERS
HORIZONTAL_RESOLUTION: 1.00000
SECONDARY_HORIZONTAL_DATUM: NAD27
XY_ORIGIN: 668783.00000 5430474.00000
SECONDARY_XY_ORIGIN: 668839.65400 5430255.50800
NATION: US
NATION: CA
NATION: "SCIENCE
STATE: MT
NW_QUAD_CORNER_XY: 669135.74300 5430032.42600
NE_QUAD_CORNER_XY: 673706.62100 5430173.61800
SE_QUAD_CORNERY_XY: 673923.97100 5423226.64700
SW_QUAD_CORNER_XY: 669347.36800 5423085.41200
SECONDARY_NW_QUAD_XY: 669141.17500 5429813.49800
SECONDARY_NE_QUAD_XY: 673712.20100 5429954.69500
SECONDARY_SE_QUAD_XY: 673929.55100 5423007.72600
SECONDARY_SW_QUAD_XY: 669352.80100 5422866.48600
RMSE_XY: 0.70000
IMAGE_SOURCE: BLACK AND WHITE FILM
SOURCE_IMAGE_ID: NAPP 9144 217
SOURCE_IMAGE_DATE: 1996 08 25
SOURCE_DEM_DATE: 1993 00 00
AGENCY: WESTERN MAPPING CENTER (WMC)
PRODUCER: UNDEFINED
PRODUCTION_SYSTEM: GIS/MAGIC
COMPRESSION: UNDEFINED
STANDARD_VERSION: 1996 12
METADATA_DATE: 2000 11 30
DATA_FILE_SIZE: 41865306
BYTE_COUNT: 5442
