FILENAME: O4810805.SWS.1114585.tif
QUADRANGLE_NAME: TURNER NW
QUADRANT: SW
WEST_LONGITUDE: -108 30 0.00000
EAST_LONGITUDE: -108 26 15.00000
NORTH_LATITUDE: 48 56 15.00000
SOUTH_LATITUDE: 48 52 30.00000
PRODUCTION_DATE: 2000 10 24
RASTER_ORDER: LEFT_RIGHT/TOP_BOTTOM
BAND_ORGANIZATION: SINGLE FILE
BAND_CONTENT: BLACK&WHITE
BAND_CONTENT: UNDEFINED
BAND_CONTENT: UNDEFINED
BITS_PER_PIXEL: 8
SAMPLES_AND_LINES: 5464 7703
HORIZONTAL_DATUM: NAD83
HORIZONTAL_COORDINATE_SYSTEM: UTM
COORDINATE_ZONE: 12
HORIZONTAL_UNITS: METERS
HORIZONTAL_RESOLUTION: 1.00000
SECONDARY_HORIZONTAL_DATUM: NAD27
XY_ORIGIN: 682725.00000 5423973.00000
SECONDARY_XY_ORIGIN: 682781.49500 5423754.67400
NATION: US
NATION: "SCIENCE
STATE: MT
NW_QUAD_CORNER_XY: 683077.09200 5423520.42700
NE_QUAD_CORNER_XY: 687653.60800 5423672.97200
SE_QUAD_CORNERY_XY: 687887.91100 5416726.19700
SW_QUAD_CORNER_XY: 683305.67400 5416573.60600
SECONDARY_NW_QUAD_XY: 683082.96500 5423301.51500
SECONDARY_NE_QUAD_XY: 687659.62900 5423454.06600
SECONDARY_SE_QUAD_XY: 687893.93100 5416507.29300
SECONDARY_SW_QUAD_XY: 683311.54700 5416354.69700
RMSE_XY: 0.90000
IMAGE_SOURCE: BLACK AND WHITE FILM
SOURCE_IMAGE_ID: NAPP 9144 108
SOURCE_IMAGE_DATE: 1996 08 25
SOURCE_IMAGE_ID: NAPP 9144 106
SOURCE_IMAGE_DATE: 1996 08 25
SOURCE_DEM_DATE: 1993 00 00
AGENCY: WESTERN MAPPING CENTER (WMC)
PRODUCER: UNDEFINED
PRODUCTION_SYSTEM: GIS/MAGIC
COMPRESSION: UNDEFINED
STANDARD_VERSION: 1996 12
METADATA_DATE: 2000 11 30
DATA_FILE_SIZE: 42094656
BYTE_COUNT: 5464
