FILENAME: O4810806.SES.1116382.tif
QUADRANGLE_NAME: TURNER NE
QUADRANT: SE
WEST_LONGITUDE: -108 18 45.00000
EAST_LONGITUDE: -108 15 0.00000
NORTH_LATITUDE: 48 56 15.00000
SOUTH_LATITUDE: 48 52 30.00000
PRODUCTION_DATE: 2000 10 24
RASTER_ORDER: LEFT_RIGHT/TOP_BOTTOM
BAND_ORGANIZATION: SINGLE FILE
BAND_CONTENT: BLACK&WHITE
BAND_CONTENT: UNDEFINED
BAND_CONTENT: UNDEFINED
BITS_PER_PIXEL: 8
SAMPLES_AND_LINES: 5481 7715
HORIZONTAL_DATUM: NAD83
HORIZONTAL_COORDINATE_SYSTEM: UTM
COORDINATE_ZONE: 12
HORIZONTAL_UNITS: METERS
HORIZONTAL_RESOLUTION: 1.00000
SECONDARY_HORIZONTAL_DATUM: NAD27
XY_ORIGIN: 696455.00000 5424454.00000
SECONDARY_XY_ORIGIN: 696511.17000 5424235.66500
NATION: US
NATION: "SCIENCE
STATE: MT
NW_QUAD_CORNER_XY: 696806.54800 5423989.37500
NE_QUAD_CORNER_XY: 701382.97100 5424153.23300
SE_QUAD_CORNERY_XY: 701634.43700 5417206.60100
SW_QUAD_CORNER_XY: 697052.29300 5417042.69400
SECONDARY_NW_QUAD_XY: 696812.86200 5423770.47800
SECONDARY_NE_QUAD_XY: 701389.43100 5423934.34200
SECONDARY_SE_QUAD_XY: 701640.89800 5416987.71200
SECONDARY_SW_QUAD_XY: 697058.60700 5416823.80000
RMSE_XY: 0.60000
IMAGE_SOURCE: BLACK AND WHITE FILM
SOURCE_IMAGE_ID: NAPP 9144 099
SOURCE_IMAGE_DATE: 1996 08 25
SOURCE_DEM_DATE: 1993 00 00
AGENCY: WESTERN MAPPING CENTER (WMC)
PRODUCER: UNDEFINED
PRODUCTION_SYSTEM: GIS/MAGIC
COMPRESSION: UNDEFINED
STANDARD_VERSION: 1996 12
METADATA_DATE: 2000 11 30
DATA_FILE_SIZE: 42291396
BYTE_COUNT: 5481
