FILENAME: O4810807.NWS.1116494.tif
QUADRANGLE_NAME: CHAPMAN NW
QUADRANT: NW
WEST_LONGITUDE: -108 15 0.00000
EAST_LONGITUDE: -108 11 15.00000
NORTH_LATITUDE: 49 0 0.00000
SOUTH_LATITUDE: 48 56 15.00000
PRODUCTION_DATE: 2000 11 1
RASTER_ORDER: LEFT_RIGHT/TOP_BOTTOM
BAND_ORGANIZATION: SINGLE FILE
BAND_CONTENT: BLACK&WHITE
BAND_CONTENT: UNDEFINED
BAND_CONTENT: UNDEFINED
BITS_PER_PIXEL: 8
SAMPLES_AND_LINES: 5481 7718
HORIZONTAL_DATUM: NAD83
HORIZONTAL_COORDINATE_SYSTEM: UTM
COORDINATE_ZONE: 12
HORIZONTAL_UNITS: METERS
HORIZONTAL_RESOLUTION: 1.00000
SECONDARY_HORIZONTAL_DATUM: NAD27
XY_ORIGIN: 700780.00000 5431568.00000
SECONDARY_XY_ORIGIN: 700835.86100 5431349.38200
NATION: US
NATION: CA
NATION: "SCIENCE
STATE: MT
NW_QUAD_CORNER_XY: 701131.26300 5431099.92400
NE_QUAD_CORNER_XY: 705701.92400 5431267.50300
SE_QUAD_CORNERY_XY: 705959.36000 5424320.86300
SW_QUAD_CORNER_XY: 701382.97100 5424153.23300
SECONDARY_NW_QUAD_XY: 701137.72300 5430881.03100
SECONDARY_NE_QUAD_XY: 705708.53200 5431048.61500
SECONDARY_SE_QUAD_XY: 705965.96800 5424101.97700
SECONDARY_SW_QUAD_XY: 701389.43100 5423934.34200
RMSE_XY: 0.90000
IMAGE_SOURCE: BLACK AND WHITE FILM
SOURCE_IMAGE_ID: NAPP 9143 138
SOURCE_IMAGE_DATE: 1996 08 24
SOURCE_DEM_DATE: 1975 00 00
AGENCY: WESTERN MAPPING CENTER (WMC)
PRODUCER: UNDEFINED
PRODUCTION_SYSTEM: GIS/MAGIC
COMPRESSION: UNDEFINED
STANDARD_VERSION: 1996 12
METADATA_DATE: 2000 11 30
DATA_FILE_SIZE: 42307839
BYTE_COUNT: 5481
