FILENAME: O4810808.SWS.1116544.tif
QUADRANGLE_NAME: SUNNY SLOPE SCHOOL
QUADRANT: SW
WEST_LONGITUDE: -108 7 30.00000
EAST_LONGITUDE: -108 3 45.00000
NORTH_LATITUDE: 48 56 15.00000
SOUTH_LATITUDE: 48 52 30.00000
PRODUCTION_DATE: 2000 10 27
RASTER_ORDER: LEFT_RIGHT/TOP_BOTTOM
BAND_ORGANIZATION: SINGLE FILE
BAND_CONTENT: BLACK&WHITE
BAND_CONTENT: UNDEFINED
BAND_CONTENT: UNDEFINED
BITS_PER_PIXEL: 8
SAMPLES_AND_LINES: 5497 7726
HORIZONTAL_DATUM: NAD83
HORIZONTAL_COORDINATE_SYSTEM: UTM
COORDINATE_ZONE: 12
HORIZONTAL_UNITS: METERS
HORIZONTAL_RESOLUTION: 1.00000
SECONDARY_HORIZONTAL_DATUM: NAD27
XY_ORIGIN: 710185.00000 5424968.00000
SECONDARY_XY_ORIGIN: 710240.82100 5424749.59800
NATION: US
NATION: "SCIENCE
STATE: MT
NW_QUAD_CORNER_XY: 710535.71600 5424492.26400
NE_QUAD_CORNER_XY: 715112.03700 5424667.43800
SE_QUAD_CORNERY_XY: 715380.67300 5417720.95900
SW_QUAD_CORNER_XY: 710798.62800 5417545.73300
SECONDARY_NW_QUAD_XY: 710542.47000 5424273.38400
SECONDARY_NE_QUAD_XY: 715118.93900 5424448.56300
SECONDARY_SE_QUAD_XY: 715387.57400 5417502.08700
SECONDARY_SW_QUAD_XY: 710805.38200 5417326.85500
RMSE_XY: 1.80000
IMAGE_SOURCE: BLACK AND WHITE FILM
SOURCE_IMAGE_ID: NAPP 9142 156
SOURCE_IMAGE_DATE: 1996 08 24
SOURCE_DEM_DATE: 1975 00 00
AGENCY: WESTERN MAPPING CENTER (WMC)
PRODUCER: UNDEFINED
PRODUCTION_SYSTEM: GIS/MAGIC
COMPRESSION: UNDEFINED
STANDARD_VERSION: 1996 12
METADATA_DATE: 2000 11 30
DATA_FILE_SIZE: 42475319
BYTE_COUNT: 5497
