FILENAME: O4810808.SES.1116543.tif
QUADRANGLE_NAME: SUNNY SLOPE SCHOOL
QUADRANT: SE
WEST_LONGITUDE: -108 3 45.00000
EAST_LONGITUDE: -108 0 0.00000
NORTH_LATITUDE: 48 56 15.00000
SOUTH_LATITUDE: 48 52 30.00000
PRODUCTION_DATE: 2000 10 27
RASTER_ORDER: LEFT_RIGHT/TOP_BOTTOM
BAND_ORGANIZATION: SINGLE FILE
BAND_CONTENT: BLACK&WHITE
BAND_CONTENT: UNDEFINED
BAND_CONTENT: UNDEFINED
BITS_PER_PIXEL: 8
SAMPLES_AND_LINES: 5502 7729
HORIZONTAL_DATUM: NAD83
HORIZONTAL_COORDINATE_SYSTEM: UTM
COORDINATE_ZONE: 12
HORIZONTAL_UNITS: METERS
HORIZONTAL_RESOLUTION: 1.00000
SECONDARY_HORIZONTAL_DATUM: NAD27
XY_ORIGIN: 714762.00000 5425147.00000
SECONDARY_XY_ORIGIN: 714817.70000 5424928.56600
NATION: US
NATION: "SCIENCE
STATE: MT
NW_QUAD_CORNER_XY: 715112.03700 5424667.43800
NE_QUAD_CORNER_XY: 719688.32400 5424846.38400
SE_QUAD_CORNERY_XY: 719962.68300 5417899.95900
SW_QUAD_CORNER_XY: 715380.67300 5417720.95900
SECONDARY_NW_QUAD_XY: 715118.93900 5424448.56300
SECONDARY_NE_QUAD_XY: 719695.37200 5424627.51500
SECONDARY_SE_QUAD_XY: 719969.73100 5417681.09200
SECONDARY_SW_QUAD_XY: 715387.57400 5417502.08700
RMSE_XY: 1.30000
IMAGE_SOURCE: BLACK AND WHITE FILM
SOURCE_IMAGE_ID: NAPP 9142 147
SOURCE_IMAGE_DATE: 1996 08 24
SOURCE_DEM_DATE: 1975 00 00
AGENCY: WESTERN MAPPING CENTER (WMC)
PRODUCER: UNDEFINED
PRODUCTION_SYSTEM: GIS/MAGIC
COMPRESSION: UNDEFINED
STANDARD_VERSION: 1996 12
METADATA_DATE: 2000 11 30
DATA_FILE_SIZE: 42530460
BYTE_COUNT: 5502
