FILENAME: O4810809.NWS.1112739.tif
QUADRANGLE_NAME: SILVER BOW LAKE
QUADRANT: NW
WEST_LONGITUDE: -109 0 0.00000
EAST_LONGITUDE: -108 56 15.00000
NORTH_LATITUDE: 48 52 30.00000
SOUTH_LATITUDE: 48 48 45.00000
PRODUCTION_DATE: 2000 11 6
RASTER_ORDER: LEFT_RIGHT/TOP_BOTTOM
BAND_ORGANIZATION: SINGLE FILE
BAND_CONTENT: BLACK&WHITE
BAND_CONTENT: UNDEFINED
BAND_CONTENT: UNDEFINED
BITS_PER_PIXEL: 8
SAMPLES_AND_LINES: 5426 7674
HORIZONTAL_DATUM: NAD83
HORIZONTAL_COORDINATE_SYSTEM: UTM
COORDINATE_ZONE: 12
HORIZONTAL_UNITS: METERS
HORIZONTAL_RESOLUTION: 1.00000
SECONDARY_HORIZONTAL_DATUM: NAD27
XY_ORIGIN: 646293.00000 5415912.00000
SECONDARY_XY_ORIGIN: 646349.96000 5415693.61000
NATION: US
NATION: "SCIENCE
STATE: MT
NW_QUAD_CORNER_XY: 646646.78500 5415488.63000
NE_QUAD_CORNER_XY: 651229.23600 5415611.05700
SE_QUAD_CORNERY_XY: 651417.60400 5408664.01600
SW_QUAD_CORNER_XY: 646829.44100 5408541.55300
SECONDARY_NW_QUAD_XY: 646651.48400 5415269.68600
SECONDARY_NE_QUAD_XY: 651234.08100 5415392.11700
SECONDARY_SE_QUAD_XY: 651422.44900 5408445.07900
SECONDARY_SW_QUAD_XY: 646834.14000 5408322.61300
RMSE_XY: 0.80000
IMAGE_SOURCE: BLACK AND WHITE FILM
SOURCE_IMAGE_ID: NAPP 9147 172
SOURCE_IMAGE_DATE: 1996 08 24
SOURCE_DEM_DATE: 1975 00 00
AGENCY: WESTERN MAPPING CENTER (WMC)
PRODUCER: UNDEFINED
PRODUCTION_SYSTEM: GIS/MAGIC
COMPRESSION: UNDEFINED
STANDARD_VERSION: 1996 12
METADATA_DATE: 2000 11 30
DATA_FILE_SIZE: 41644550
BYTE_COUNT: 5426
