FILENAME: O4810810.SWS.1112761.tif
QUADRANGLE_NAME: SILVER BOW SPRING
QUADRANT: SW
WEST_LONGITUDE: -108 52 30.00000
EAST_LONGITUDE: -108 48 45.00000
NORTH_LATITUDE: 48 48 45.00000
SOUTH_LATITUDE: 48 45 0.00000
PRODUCTION_DATE: 2000 10 26
RASTER_ORDER: LEFT_RIGHT/TOP_BOTTOM
BAND_ORGANIZATION: SINGLE FILE
BAND_CONTENT: BLACK&WHITE
BAND_CONTENT: UNDEFINED
BAND_CONTENT: UNDEFINED
BITS_PER_PIXEL: 8
SAMPLES_AND_LINES: 5443 7681
HORIZONTAL_DATUM: NAD83
HORIZONTAL_COORDINATE_SYSTEM: UTM
COORDINATE_ZONE: 12
HORIZONTAL_UNITS: METERS
HORIZONTAL_RESOLUTION: 1.00000
SECONDARY_HORIZONTAL_DATUM: NAD27
XY_ORIGIN: 655652.00000 5409221.00000
SECONDARY_XY_ORIGIN: 655709.21600 5409003.01300
NATION: US
NATION: "SCIENCE
STATE: MT
NW_QUAD_CORNER_XY: 656005.74300 5408790.24900
NE_QUAD_CORNER_XY: 660593.85700 5408920.25300
SE_QUAD_CORNERY_XY: 660793.45800 5401973.35100
SW_QUAD_CORNER_XY: 656199.63600 5401843.31000
SECONDARY_NW_QUAD_XY: 656010.73500 5408571.31600
SECONDARY_NE_QUAD_XY: 660598.99600 5408701.32400
SECONDARY_SE_QUAD_XY: 660798.59700 5401754.42700
SECONDARY_SW_QUAD_XY: 656204.62800 5401624.38100
RMSE_XY: 1.10000
IMAGE_SOURCE: BLACK AND WHITE FILM
SOURCE_IMAGE_ID: NAPP 9157 102
SOURCE_IMAGE_DATE: 1997 09 05
SOURCE_DEM_DATE: 1975 00 00
AGENCY: WESTERN MAPPING CENTER (WMC)
PRODUCER: UNDEFINED
PRODUCTION_SYSTEM: GIS/MAGIC
COMPRESSION: UNDEFINED
STANDARD_VERSION: 1996 12
METADATA_DATE: 2000 11 13
DATA_FILE_SIZE: 41813126
BYTE_COUNT: 5443
