FILENAME: O4810811.NES.1112802.tif
QUADRANGLE_NAME: HOGELAND
QUADRANT: NE
WEST_LONGITUDE: -108 41 15.00000
EAST_LONGITUDE: -108 37 30.00000
NORTH_LATITUDE: 48 52 30.00000
SOUTH_LATITUDE: 48 48 45.00000
PRODUCTION_DATE: 2000 10 27
RASTER_ORDER: LEFT_RIGHT/TOP_BOTTOM
BAND_ORGANIZATION: SINGLE FILE
BAND_CONTENT: BLACK&WHITE
BAND_CONTENT: UNDEFINED
BAND_CONTENT: UNDEFINED
BITS_PER_PIXEL: 8
SAMPLES_AND_LINES: 5454 7692
HORIZONTAL_DATUM: NAD83
HORIZONTAL_COORDINATE_SYSTEM: UTM
COORDINATE_ZONE: 12
HORIZONTAL_UNITS: METERS
HORIZONTAL_RESOLUTION: 1.00000
SECONDARY_HORIZONTAL_DATUM: NAD27
XY_ORIGIN: 669206.00000 5416580.00000
SECONDARY_XY_ORIGIN: 669262.98900 5416361.96600
NATION: US
NATION: "SCIENCE
STATE: MT
NW_QUAD_CORNER_XY: 669558.79000 5416138.46200
NE_QUAD_CORNER_XY: 674141.11300 5416279.73900
SE_QUAD_CORNERY_XY: 674358.04600 5409332.89300
SW_QUAD_CORNER_XY: 669770.01000 5409191.57500
SECONDARY_NW_QUAD_XY: 669564.22300 5415919.53900
SECONDARY_NE_QUAD_XY: 674146.69300 5416060.82000
SECONDARY_SE_QUAD_XY: 674363.62600 5409113.97800
SECONDARY_SW_QUAD_XY: 669775.44200 5408972.65500
RMSE_XY: 0.80000
IMAGE_SOURCE: BLACK AND WHITE FILM
SOURCE_IMAGE_ID: NAPP 9144 213
SOURCE_IMAGE_DATE: 1996 08 25
SOURCE_DEM_DATE: 1975 00 00
AGENCY: WESTERN MAPPING CENTER (WMC)
PRODUCER: UNDEFINED
PRODUCTION_SYSTEM: GIS/MAGIC
COMPRESSION: UNDEFINED
STANDARD_VERSION: 1996 12
METADATA_DATE: 2000 11 30
DATA_FILE_SIZE: 41957622
BYTE_COUNT: 5454
