FILENAME: O4810813.NES.1114562.tif
QUADRANGLE_NAME: TURNER
QUADRANT: NE
WEST_LONGITUDE: -108 26 15.00000
EAST_LONGITUDE: -108 22 30.00000
NORTH_LATITUDE: 48 52 30.00000
SOUTH_LATITUDE: 48 48 45.00000
PRODUCTION_DATE: 2000 10 24
RASTER_ORDER: LEFT_RIGHT/TOP_BOTTOM
BAND_ORGANIZATION: SINGLE FILE
BAND_CONTENT: BLACK&WHITE
BAND_CONTENT: UNDEFINED
BAND_CONTENT: UNDEFINED
BITS_PER_PIXEL: 8
SAMPLES_AND_LINES: 5475 7707
HORIZONTAL_DATUM: NAD83
HORIZONTAL_COORDINATE_SYSTEM: UTM
COORDINATE_ZONE: 12
HORIZONTAL_UNITS: METERS
HORIZONTAL_RESOLUTION: 1.00000
SECONDARY_HORIZONTAL_DATUM: NAD27
XY_ORIGIN: 687536.00000 5417183.00000
SECONDARY_XY_ORIGIN: 687592.58300 5416964.94100
NATION: US
NATION: "SCIENCE
STATE: MT
NW_QUAD_CORNER_XY: 687887.91100 5416726.19700
NE_QUAD_CORNER_XY: 692470.11700 5416882.56000
SE_QUAD_CORNERY_XY: 692709.91000 5409935.89100
SW_QUAD_CORNER_XY: 688121.98800 5409779.48200
SECONDARY_NW_QUAD_XY: 687893.93100 5416507.29300
SECONDARY_NE_QUAD_XY: 692476.28400 5416663.66000
SECONDARY_SE_QUAD_XY: 692716.07700 5409716.99500
SECONDARY_SW_QUAD_XY: 688128.00800 5409560.58100
RMSE_XY: 1.00000
IMAGE_SOURCE: BLACK AND WHITE FILM
SOURCE_IMAGE_ID: NAPP 9144 061
SOURCE_IMAGE_DATE: 1996 08 25
SOURCE_DEM_DATE: 1975 00 00
AGENCY: WESTERN MAPPING CENTER (WMC)
PRODUCER: UNDEFINED
PRODUCTION_SYSTEM: GIS/MAGIC
COMPRESSION: UNDEFINED
STANDARD_VERSION: 1996 12
METADATA_DATE: 2000 11 14
DATA_FILE_SIZE: 42201300
BYTE_COUNT: 5475
