FILENAME: O4810814.SWS.1116388.tif
QUADRANGLE_NAME: TURNER SE
QUADRANT: SW
WEST_LONGITUDE: -108 22 30.00000
EAST_LONGITUDE: -108 18 45.00000
NORTH_LATITUDE: 48 48 45.00000
SOUTH_LATITUDE: 48 45 0.00000
PRODUCTION_DATE: 2000 10 24
RASTER_ORDER: LEFT_RIGHT/TOP_BOTTOM
BAND_ORGANIZATION: SINGLE FILE
BAND_CONTENT: BLACK&WHITE
BAND_CONTENT: UNDEFINED
BAND_CONTENT: UNDEFINED
BITS_PER_PIXEL: 8
SAMPLES_AND_LINES: 5487 7712
HORIZONTAL_DATUM: NAD83
HORIZONTAL_COORDINATE_SYSTEM: UTM
COORDINATE_ZONE: 12
HORIZONTAL_UNITS: METERS
HORIZONTAL_RESOLUTION: 1.00000
SECONDARY_HORIZONTAL_DATUM: NAD27
XY_ORIGIN: 692358.00000 5410397.00000
SECONDARY_XY_ORIGIN: 692414.67500 5410179.21400
NATION: US
NATION: "SCIENCE
STATE: MT
NW_QUAD_CORNER_XY: 692709.91000 5409935.89100
NE_QUAD_CORNER_XY: 697297.80200 5410096.07200
SE_QUAD_CORNERY_XY: 697543.07400 5403149.50900
SW_QUAD_CORNER_XY: 692949.47200 5402989.28200
SECONDARY_NW_QUAD_XY: 692716.07700 5409716.99500
SECONDARY_NE_QUAD_XY: 697304.11500 5409877.18100
SECONDARY_SE_QUAD_XY: 697549.38800 5402930.62300
SECONDARY_SW_QUAD_XY: 692955.63800 5402770.39000
RMSE_XY: 0.80000
IMAGE_SOURCE: BLACK AND WHITE FILM
SOURCE_IMAGE_ID: NAPP 9144 076
SOURCE_IMAGE_DATE: 1996 08 25
SOURCE_DEM_DATE: 1975 00 00
AGENCY: WESTERN MAPPING CENTER (WMC)
PRODUCER: UNDEFINED
PRODUCTION_SYSTEM: GIS/MAGIC
COMPRESSION: UNDEFINED
STANDARD_VERSION: 1996 12
METADATA_DATE: 2000 11 30
DATA_FILE_SIZE: 42321231
BYTE_COUNT: 5487
