FILENAME: O4810814.NES.1116385.tif
QUADRANGLE_NAME: TURNER SE
QUADRANT: NE
WEST_LONGITUDE: -108 18 45.00000
EAST_LONGITUDE: -108 15 0.00000
NORTH_LATITUDE: 48 52 30.00000
SOUTH_LATITUDE: 48 48 45.00000
PRODUCTION_DATE: 2000 10 24
RASTER_ORDER: LEFT_RIGHT/TOP_BOTTOM
BAND_ORGANIZATION: SINGLE FILE
BAND_CONTENT: BLACK&WHITE
BAND_CONTENT: UNDEFINED
BAND_CONTENT: UNDEFINED
BITS_PER_PIXEL: 8
SAMPLES_AND_LINES: 5486 7715
HORIZONTAL_DATUM: NAD83
HORIZONTAL_COORDINATE_SYSTEM: UTM
COORDINATE_ZONE: 12
HORIZONTAL_UNITS: METERS
HORIZONTAL_RESOLUTION: 1.00000
SECONDARY_HORIZONTAL_DATUM: NAD27
XY_ORIGIN: 696701.00000 5417507.00000
SECONDARY_XY_ORIGIN: 696757.37000 5417288.94100
NATION: US
NATION: "SCIENCE
STATE: MT
NW_QUAD_CORNER_XY: 697052.29300 5417042.69400
NE_QUAD_CORNER_XY: 701634.43700 5417206.60100
SE_QUAD_CORNERY_XY: 701885.66200 5410260.02700
SW_QUAD_CORNER_XY: 697297.80200 5410096.07200
SECONDARY_NW_QUAD_XY: 697058.60700 5416823.80000
SECONDARY_NE_QUAD_XY: 701640.89800 5416987.71200
SECONDARY_SE_QUAD_XY: 701892.12300 5410041.14100
SECONDARY_SW_QUAD_XY: 697304.11500 5409877.18100
RMSE_XY: 1.00000
IMAGE_SOURCE: BLACK AND WHITE FILM
SOURCE_IMAGE_ID: NAPP 9144 097
SOURCE_IMAGE_DATE: 1996 08 25
SOURCE_DEM_DATE: 1975 00 00
AGENCY: WESTERN MAPPING CENTER (WMC)
PRODUCER: UNDEFINED
PRODUCTION_SYSTEM: GIS/MAGIC
COMPRESSION: UNDEFINED
STANDARD_VERSION: 1996 12
METADATA_DATE: 2000 11 30
DATA_FILE_SIZE: 42329976
BYTE_COUNT: 5486
