FILENAME: O4810815.SES.1116499.tif
QUADRANGLE_NAME: CHAPMAN
QUADRANT: SE
WEST_LONGITUDE: -108 11 15.00000
EAST_LONGITUDE: -108 7 30.00000
NORTH_LATITUDE: 48 48 45.00000
SOUTH_LATITUDE: 48 45 0.00000
PRODUCTION_DATE: 2000 10 26
RASTER_ORDER: LEFT_RIGHT/TOP_BOTTOM
BAND_ORGANIZATION: SINGLE FILE
BAND_CONTENT: BLACK&WHITE
BAND_CONTENT: UNDEFINED
BAND_CONTENT: UNDEFINED
BITS_PER_PIXEL: 8
SAMPLES_AND_LINES: 5503 7723
HORIZONTAL_DATUM: NAD83
HORIZONTAL_COORDINATE_SYSTEM: UTM
COORDINATE_ZONE: 12
HORIZONTAL_UNITS: METERS
HORIZONTAL_RESOLUTION: 1.00000
SECONDARY_HORIZONTAL_DATUM: NAD27
XY_ORIGIN: 706122.00000 5410900.00000
SECONDARY_XY_ORIGIN: 706178.35300 5410682.20700
NATION: US
NATION: "SCIENCE
STATE: MT
NW_QUAD_CORNER_XY: 706473.49100 5410427.75600
NE_QUAD_CORNER_XY: 711061.28700 5410599.25900
SE_QUAD_CORNERY_XY: 711323.69400 5403652.84100
SW_QUAD_CORNER_XY: 706730.18600 5403481.28900
SECONDARY_NW_QUAD_XY: 706480.09900 5410208.87600
SECONDARY_NE_QUAD_XY: 711068.04200 5410380.38400
SECONDARY_SE_QUAD_XY: 711330.44800 5403433.97100
SECONDARY_SW_QUAD_XY: 706736.79300 5403262.41300
RMSE_XY: 1.10000
IMAGE_SOURCE: BLACK AND WHITE FILM
SOURCE_IMAGE_ID: NAPP 9143 127
SOURCE_IMAGE_DATE: 1996 08 24
SOURCE_IMAGE_ID: NAPP 9143 126
SOURCE_IMAGE_DATE: 1996 08 24
SOURCE_DEM_DATE: 1975 00 00
AGENCY: WESTERN MAPPING CENTER (WMC)
PRODUCER: UNDEFINED
PRODUCTION_SYSTEM: GIS/MAGIC
COMPRESSION: UNDEFINED
STANDARD_VERSION: 1996 12
METADATA_DATE: 2000 11 30
DATA_FILE_SIZE: 42505172
BYTE_COUNT: 5503
