FILENAME: O4810815.NWS.1116498.tif
QUADRANGLE_NAME: CHAPMAN
QUADRANT: NW
WEST_LONGITUDE: -108 15 0.00000
EAST_LONGITUDE: -108 11 15.00000
NORTH_LATITUDE: 48 52 30.00000
SOUTH_LATITUDE: 48 48 45.00000
PRODUCTION_DATE: 2000 10 26
RASTER_ORDER: LEFT_RIGHT/TOP_BOTTOM
BAND_ORGANIZATION: SINGLE FILE
BAND_CONTENT: BLACK&WHITE
BAND_CONTENT: UNDEFINED
BAND_CONTENT: UNDEFINED
BITS_PER_PIXEL: 8
SAMPLES_AND_LINES: 5492 7719
HORIZONTAL_DATUM: NAD83
HORIZONTAL_COORDINATE_SYSTEM: UTM
COORDINATE_ZONE: 12
HORIZONTAL_UNITS: METERS
HORIZONTAL_RESOLUTION: 1.00000
SECONDARY_HORIZONTAL_DATUM: NAD27
XY_ORIGIN: 701283.00000 5417675.00000
SECONDARY_XY_ORIGIN: 701339.26300 5417456.94000
NATION: US
NATION: "SCIENCE
STATE: MT
NW_QUAD_CORNER_XY: 701634.43700 5417206.60100
NE_QUAD_CORNER_XY: 706216.54900 5417374.28100
SE_QUAD_CORNERY_XY: 706473.49100 5410427.75600
SW_QUAD_CORNER_XY: 701885.66200 5410260.02700
SECONDARY_NW_QUAD_XY: 701640.89800 5416987.71200
SECONDARY_NE_QUAD_XY: 706223.15700 5417155.39700
SECONDARY_SE_QUAD_XY: 706480.09900 5410208.87600
SECONDARY_SW_QUAD_XY: 701892.12300 5410041.14100
RMSE_XY: 1.10000
IMAGE_SOURCE: BLACK AND WHITE FILM
SOURCE_IMAGE_ID: NAPP 9143 142
SOURCE_IMAGE_DATE: 1996 08 24
SOURCE_DEM_DATE: 1975 00 00
AGENCY: WESTERN MAPPING CENTER (WMC)
PRODUCER: UNDEFINED
PRODUCTION_SYSTEM: GIS/MAGIC
COMPRESSION: UNDEFINED
STANDARD_VERSION: 1996 12
METADATA_DATE: 2000 11 30
DATA_FILE_SIZE: 42398240
BYTE_COUNT: 5492
