FILENAME: O4810815.NES.1116497.tif
QUADRANGLE_NAME: CHAPMAN
QUADRANT: NE
WEST_LONGITUDE: -108 11 15.00000
EAST_LONGITUDE: -108 7 30.00000
NORTH_LATITUDE: 48 52 30.00000
SOUTH_LATITUDE: 48 48 45.00000
PRODUCTION_DATE: 2000 10 26
RASTER_ORDER: LEFT_RIGHT/TOP_BOTTOM
BAND_ORGANIZATION: SINGLE FILE
BAND_CONTENT: BLACK&WHITE
BAND_CONTENT: UNDEFINED
BAND_CONTENT: UNDEFINED
BITS_PER_PIXEL: 8
SAMPLES_AND_LINES: 5497 7722
HORIZONTAL_DATUM: NAD83
HORIZONTAL_COORDINATE_SYSTEM: UTM
COORDINATE_ZONE: 12
HORIZONTAL_UNITS: METERS
HORIZONTAL_RESOLUTION: 1.00000
SECONDARY_HORIZONTAL_DATUM: NAD27
XY_ORIGIN: 705866.00000 5417846.00000
SECONDARY_XY_ORIGIN: 705922.14700 5417627.91800
NATION: US
NATION: "SCIENCE
STATE: MT
NW_QUAD_CORNER_XY: 706216.54900 5417374.28100
NE_QUAD_CORNER_XY: 710798.62800 5417545.73300
SE_QUAD_CORNERY_XY: 711061.28700 5410599.25900
SW_QUAD_CORNER_XY: 706473.49100 5410427.75600
SECONDARY_NW_QUAD_XY: 706223.15700 5417155.39700
SECONDARY_NE_QUAD_XY: 710805.38200 5417326.85500
SECONDARY_SE_QUAD_XY: 711068.04200 5410380.38400
SECONDARY_SW_QUAD_XY: 706480.09900 5410208.87600
RMSE_XY: 1.00000
IMAGE_SOURCE: BLACK AND WHITE FILM
SOURCE_IMAGE_ID: NAPP 9143 129
SOURCE_IMAGE_DATE: 1996 08 24
SOURCE_DEM_DATE: 1975 00 00
AGENCY: WESTERN MAPPING CENTER (WMC)
PRODUCER: UNDEFINED
PRODUCTION_SYSTEM: GIS/MAGIC
COMPRESSION: UNDEFINED
STANDARD_VERSION: 1996 12
METADATA_DATE: 2000 11 30
DATA_FILE_SIZE: 42453331
BYTE_COUNT: 5497
