FILENAME: O4810816.NWS.1116546.tif
QUADRANGLE_NAME: HORSESHOE LAKE
QUADRANT: NW
WEST_LONGITUDE: -108 7 30.00000
EAST_LONGITUDE: -108 3 45.00000
NORTH_LATITUDE: 48 52 30.00000
SOUTH_LATITUDE: 48 48 45.00000
PRODUCTION_DATE: 2000 10 27
RASTER_ORDER: LEFT_RIGHT/TOP_BOTTOM
BAND_ORGANIZATION: SINGLE FILE
BAND_CONTENT: BLACK&WHITE
BAND_CONTENT: UNDEFINED
BAND_CONTENT: UNDEFINED
BITS_PER_PIXEL: 8
SAMPLES_AND_LINES: 5503 7725
HORIZONTAL_DATUM: NAD83
HORIZONTAL_COORDINATE_SYSTEM: UTM
COORDINATE_ZONE: 12
HORIZONTAL_UNITS: METERS
HORIZONTAL_RESOLUTION: 1.00000
SECONDARY_HORIZONTAL_DATUM: NAD27
XY_ORIGIN: 710448.00000 5418021.00000
SECONDARY_XY_ORIGIN: 710504.03100 5417802.89500
NATION: US
NATION: "SCIENCE
STATE: MT
NW_QUAD_CORNER_XY: 710798.62800 5417545.73300
NE_QUAD_CORNER_XY: 715380.67300 5417720.95900
SE_QUAD_CORNERY_XY: 715649.05000 5410774.53600
SW_QUAD_CORNER_XY: 711061.28700 5410599.25900
SECONDARY_NW_QUAD_XY: 710805.38200 5417326.85500
SECONDARY_NE_QUAD_XY: 715387.57400 5417502.08700
SECONDARY_SE_QUAD_XY: 715655.95100 5410555.66700
SECONDARY_SW_QUAD_XY: 711068.04200 5410380.38400
RMSE_XY: 0.90000
IMAGE_SOURCE: BLACK AND WHITE FILM
SOURCE_IMAGE_ID: NAPP 9142 158
SOURCE_IMAGE_DATE: 1996 08 24
SOURCE_DEM_DATE: 1975 00 00
AGENCY: WESTERN MAPPING CENTER (WMC)
PRODUCER: UNDEFINED
PRODUCTION_SYSTEM: GIS/MAGIC
COMPRESSION: UNDEFINED
STANDARD_VERSION: 1996 12
METADATA_DATE: 2000 11 30
DATA_FILE_SIZE: 42516178
BYTE_COUNT: 5503
