FILENAME: O4810817.NWS.1112743.tif
QUADRANGLE_NAME: HARLEM NW
QUADRANT: NW
WEST_LONGITUDE: -109 0 0.00000
EAST_LONGITUDE: -108 56 15.00000
NORTH_LATITUDE: 48 45 0.00000
SOUTH_LATITUDE: 48 41 15.00000
PRODUCTION_DATE: 2000 10 26
RASTER_ORDER: LEFT_RIGHT/TOP_BOTTOM
BAND_ORGANIZATION: SINGLE FILE
BAND_CONTENT: BLACK&WHITE
BAND_CONTENT: UNDEFINED
BAND_CONTENT: UNDEFINED
BITS_PER_PIXEL: 8
SAMPLES_AND_LINES: 5437 7674
HORIZONTAL_DATUM: NAD83
HORIZONTAL_COORDINATE_SYSTEM: UTM
COORDINATE_ZONE: 12
HORIZONTAL_UNITS: METERS
HORIZONTAL_RESOLUTION: 1.00000
SECONDARY_HORIZONTAL_DATUM: NAD27
XY_ORIGIN: 646658.00000 5402018.00000
SECONDARY_XY_ORIGIN: 646715.40700 5401800.06500
NATION: US
NATION: "SCIENCE
STATE: MT
NW_QUAD_CORNER_XY: 647011.92100 5401594.54300
NE_QUAD_CORNER_XY: 651605.79100 5401717.04000
SE_QUAD_CORNERY_XY: 651793.79500 5394770.13100
SW_QUAD_CORNER_XY: 647194.22500 5394647.59900
SECONDARY_NW_QUAD_XY: 647016.62000 5401375.60600
SECONDARY_NE_QUAD_XY: 651610.63600 5401498.10800
SECONDARY_SE_QUAD_XY: 651798.64000 5394551.20400
SECONDARY_SW_QUAD_XY: 647198.92300 5394428.66800
RMSE_XY: 0.80000
IMAGE_SOURCE: BLACK AND WHITE FILM
SOURCE_IMAGE_ID: NAPP 9147 176
SOURCE_IMAGE_DATE: 1996 08 24
SOURCE_DEM_DATE: 1975 00 00
AGENCY: WESTERN MAPPING CENTER (WMC)
PRODUCER: UNDEFINED
PRODUCTION_SYSTEM: GIS/MAGIC
COMPRESSION: UNDEFINED
STANDARD_VERSION: 1996 12
METADATA_DATE: 2000 11 30
DATA_FILE_SIZE: 41728975
BYTE_COUNT: 5437
