FILENAME: O4810817.NES.1112742.tif
QUADRANGLE_NAME: HARLEM NW
QUADRANT: NE
WEST_LONGITUDE: -108 56 15.00000
EAST_LONGITUDE: -108 52 30.00000
NORTH_LATITUDE: 48 45 0.00000
SOUTH_LATITUDE: 48 41 15.00000
PRODUCTION_DATE: 2000 10 26
RASTER_ORDER: LEFT_RIGHT/TOP_BOTTOM
BAND_ORGANIZATION: SINGLE FILE
BAND_CONTENT: BLACK&WHITE
BAND_CONTENT: UNDEFINED
BAND_CONTENT: UNDEFINED
BITS_PER_PIXEL: 8
SAMPLES_AND_LINES: 5443 7678
HORIZONTAL_DATUM: NAD83
HORIZONTAL_COORDINATE_SYSTEM: UTM
COORDINATE_ZONE: 12
HORIZONTAL_UNITS: METERS
HORIZONTAL_RESOLUTION: 1.00000
SECONDARY_HORIZONTAL_DATUM: NAD27
XY_ORIGIN: 651252.00000 5402144.00000
SECONDARY_XY_ORIGIN: 651309.40800 5401926.15400
NATION: US
NATION: "SCIENCE
STATE: MT
NW_QUAD_CORNER_XY: 651605.79100 5401717.04000
NE_QUAD_CORNER_XY: 656199.63600 5401843.31000
SE_QUAD_CORNERY_XY: 656393.34200 5394896.43600
SW_QUAD_CORNER_XY: 651793.79500 5394770.13100
SECONDARY_NW_QUAD_XY: 651610.63600 5401498.10800
SECONDARY_NE_QUAD_XY: 656204.62800 5401624.38100
SECONDARY_SE_QUAD_XY: 656398.33400 5394677.51300
SECONDARY_SW_QUAD_XY: 651798.64000 5394551.20400
RMSE_XY: 1.20000
IMAGE_SOURCE: BLACK AND WHITE FILM
SOURCE_IMAGE_ID: NAPP 9147 155
SOURCE_IMAGE_DATE: 1996 08 24
SOURCE_DEM_DATE: 1975 00 00
AGENCY: WESTERN MAPPING CENTER (WMC)
PRODUCER: UNDEFINED
PRODUCTION_SYSTEM: GIS/MAGIC
COMPRESSION: UNDEFINED
STANDARD_VERSION: 1996 12
METADATA_DATE: 2000 11 30
DATA_FILE_SIZE: 41796797
BYTE_COUNT: 5443
