FILENAME: O4810818.NWS.1112763.tif
QUADRANGLE_NAME: EAST BUTTE
QUADRANT: NW
WEST_LONGITUDE: -108 52 30.00000
EAST_LONGITUDE: -108 48 45.00000
NORTH_LATITUDE: 48 45 0.00000
SOUTH_LATITUDE: 48 41 15.00000
PRODUCTION_DATE: 2000 11 6
RASTER_ORDER: LEFT_RIGHT/TOP_BOTTOM
BAND_ORGANIZATION: SINGLE FILE
BAND_CONTENT: BLACK&WHITE
BAND_CONTENT: UNDEFINED
BAND_CONTENT: UNDEFINED
BITS_PER_PIXEL: 8
SAMPLES_AND_LINES: 5448 7681
HORIZONTAL_DATUM: NAD83
HORIZONTAL_COORDINATE_SYSTEM: UTM
COORDINATE_ZONE: 12
HORIZONTAL_UNITS: METERS
HORIZONTAL_RESOLUTION: 1.00000
SECONDARY_HORIZONTAL_DATUM: NAD27
XY_ORIGIN: 655846.00000 5402274.00000
SECONDARY_XY_ORIGIN: 655903.40800 5402056.24200
NATION: US
NATION: "SCIENCE
STATE: MT
NW_QUAD_CORNER_XY: 656199.63600 5401843.31000
NE_QUAD_CORNER_XY: 660793.45800 5401973.35100
SE_QUAD_CORNERY_XY: 660992.86600 5395026.51400
SW_QUAD_CORNER_XY: 656393.34200 5394896.43600
SECONDARY_NW_QUAD_XY: 656204.62800 5401624.38100
SECONDARY_NE_QUAD_XY: 660798.59700 5401754.42700
SECONDARY_SE_QUAD_XY: 660998.00400 5394807.59500
SECONDARY_SW_QUAD_XY: 656398.33400 5394677.51300
RMSE_XY: 1.00000
IMAGE_SOURCE: BLACK AND WHITE FILM
SOURCE_IMAGE_ID: NAPP 9157 100
SOURCE_IMAGE_DATE: 1997 09 05
SOURCE_DEM_DATE: 1975 00 00
AGENCY: WESTERN MAPPING CENTER (WMC)
PRODUCER: UNDEFINED
PRODUCTION_SYSTEM: GIS/MAGIC
COMPRESSION: UNDEFINED
STANDARD_VERSION: 1996 12
METADATA_DATE: 2000 11 13
DATA_FILE_SIZE: 41851536
BYTE_COUNT: 5448
