FILENAME: O4810818.NES.1112762.tif
QUADRANGLE_NAME: EAST BUTTE
QUADRANT: NE
WEST_LONGITUDE: -108 48 45.00000
EAST_LONGITUDE: -108 45 0.00000
NORTH_LATITUDE: 48 45 0.00000
SOUTH_LATITUDE: 48 41 15.00000
PRODUCTION_DATE: 2000 10 26
RASTER_ORDER: LEFT_RIGHT/TOP_BOTTOM
BAND_ORGANIZATION: SINGLE FILE
BAND_CONTENT: BLACK&WHITE
BAND_CONTENT: UNDEFINED
BAND_CONTENT: UNDEFINED
BITS_PER_PIXEL: 8
SAMPLES_AND_LINES: 5454 7685
HORIZONTAL_DATUM: NAD83
HORIZONTAL_COORDINATE_SYSTEM: UTM
COORDINATE_ZONE: 12
HORIZONTAL_UNITS: METERS
HORIZONTAL_RESOLUTION: 1.00000
SECONDARY_HORIZONTAL_DATUM: NAD27
XY_ORIGIN: 660440.00000 5402408.00000
SECONDARY_XY_ORIGIN: 660497.40900 5402190.33100
NATION: US
NATION: "SCIENCE
STATE: MT
NW_QUAD_CORNER_XY: 660793.45800 5401973.35100
NE_QUAD_CORNER_XY: 665387.25500 5402107.16500
SE_QUAD_CORNERY_XY: 665592.36400 5395160.36600
SW_QUAD_CORNER_XY: 660992.86600 5395026.51400
SECONDARY_NW_QUAD_XY: 660798.59700 5401754.42700
SECONDARY_NE_QUAD_XY: 665392.54000 5401888.24500
SECONDARY_SE_QUAD_XY: 665597.65000 5394941.45100
SECONDARY_SW_QUAD_XY: 660998.00400 5394807.59500
RMSE_XY: 1.20000
IMAGE_SOURCE: BLACK AND WHITE FILM
SOURCE_IMAGE_ID: NAPP 9157 121
SOURCE_IMAGE_DATE: 1997 09 05
SOURCE_IMAGE_ID: NAPP 9144 229
SOURCE_IMAGE_DATE: 1996 08 25
SOURCE_DEM_DATE: 1975 00 00
AGENCY: WESTERN MAPPING CENTER (WMC)
PRODUCER: UNDEFINED
PRODUCTION_SYSTEM: GIS/MAGIC
COMPRESSION: UNDEFINED
STANDARD_VERSION: 1996 12
METADATA_DATE: 2000 11 13
DATA_FILE_SIZE: 41919444
BYTE_COUNT: 5454
