FILENAME: O4810820.SWS.1114521.tif
QUADRANGLE_NAME: HORNBECK LAKE
QUADRANT: SW
WEST_LONGITUDE: -108 37 30.00000
EAST_LONGITUDE: -108 33 45.00000
NORTH_LATITUDE: 48 41 15.00000
SOUTH_LATITUDE: 48 37 30.00000
PRODUCTION_DATE: 2000 10 24
RASTER_ORDER: LEFT_RIGHT/TOP_BOTTOM
BAND_ORGANIZATION: SINGLE FILE
BAND_CONTENT: BLACK&WHITE
BAND_CONTENT: UNDEFINED
BAND_CONTENT: UNDEFINED
BITS_PER_PIXEL: 8
SAMPLES_AND_LINES: 5476 7696
HORIZONTAL_DATUM: NAD83
HORIZONTAL_COORDINATE_SYSTEM: UTM
COORDINATE_ZONE: 12
HORIZONTAL_UNITS: METERS
HORIZONTAL_RESOLUTION: 1.00000
SECONDARY_HORIZONTAL_DATUM: NAD27
XY_ORIGIN: 674438.00000 5395885.00000
SECONDARY_XY_ORIGIN: 674495.37200 5395667.59200
NATION: US
NATION: "SCIENCE
STATE: MT
NW_QUAD_CORNER_XY: 674791.28500 5395439.39100
NE_QUAD_CORNER_XY: 679390.70600 5395584.56400
SE_QUAD_CORNERY_XY: 679612.71000 5388637.94700
SW_QUAD_CORNER_XY: 675007.59100 5388492.73300
SECONDARY_NW_QUAD_XY: 674796.86400 5395220.48500
SECONDARY_NE_QUAD_XY: 679396.43200 5395365.66300
SECONDARY_SE_QUAD_XY: 679618.43500 5388419.05200
SECONDARY_SW_QUAD_XY: 675013.17000 5388273.83300
RMSE_XY: 0.90000
IMAGE_SOURCE: BLACK AND WHITE FILM
SOURCE_IMAGE_ID: NAPP 9138 148
SOURCE_IMAGE_DATE: 1996 08 23
SOURCE_DEM_DATE: 1975 00 00
AGENCY: WESTERN MAPPING CENTER (WMC)
PRODUCER: UNDEFINED
PRODUCTION_SYSTEM: GIS/MAGIC
COMPRESSION: UNDEFINED
STANDARD_VERSION: 1996 12
METADATA_DATE: 2000 11 14
DATA_FILE_SIZE: 42148772
BYTE_COUNT: 5476
