FILENAME: O4810820.NES.1114518.tif
QUADRANGLE_NAME: HORNBECK LAKE
QUADRANT: NE
WEST_LONGITUDE: -108 33 45.00000
EAST_LONGITUDE: -108 30 0.00000
NORTH_LATITUDE: 48 45 0.00000
SOUTH_LATITUDE: 48 41 15.00000
PRODUCTION_DATE: 2000 10 24
RASTER_ORDER: LEFT_RIGHT/TOP_BOTTOM
BAND_ORGANIZATION: SINGLE FILE
BAND_CONTENT: BLACK&WHITE
BAND_CONTENT: UNDEFINED
BAND_CONTENT: UNDEFINED
BITS_PER_PIXEL: 8
SAMPLES_AND_LINES: 5476 7700
HORIZONTAL_DATUM: NAD83
HORIZONTAL_COORDINATE_SYSTEM: UTM
COORDINATE_ZONE: 12
HORIZONTAL_UNITS: METERS
HORIZONTAL_RESOLUTION: 1.00000
SECONDARY_HORIZONTAL_DATUM: NAD27
XY_ORIGIN: 678816.00000 5402981.00000
SECONDARY_XY_ORIGIN: 678873.16400 5402763.46800
NATION: US
NATION: "SCIENCE
STATE: MT
NW_QUAD_CORNER_XY: 679168.48800 5402531.24300
NE_QUAD_CORNER_XY: 683762.17800 5402680.14900
SE_QUAD_CORNERY_XY: 683990.10000 5395733.51200
SW_QUAD_CORNER_XY: 679390.70600 5395584.56400
SECONDARY_NW_QUAD_XY: 679174.21400 5402312.33700
SECONDARY_NE_QUAD_XY: 683768.05100 5402461.24700
SECONDARY_SE_QUAD_XY: 683995.97300 5395514.61500
SECONDARY_SW_QUAD_XY: 679396.43200 5395365.66300
RMSE_XY: 0.80000
IMAGE_SOURCE: BLACK AND WHITE FILM
SOURCE_IMAGE_ID: NAPP 9138 125
SOURCE_IMAGE_DATE: 1996 08 23
SOURCE_DEM_DATE: 1975 00 00
AGENCY: WESTERN MAPPING CENTER (WMC)
PRODUCER: UNDEFINED
PRODUCTION_SYSTEM: GIS/MAGIC
COMPRESSION: UNDEFINED
STANDARD_VERSION: 1996 12
METADATA_DATE: 2000 11 14
DATA_FILE_SIZE: 42170676
BYTE_COUNT: 5476
