FILENAME: O4810821.NES.1114566.tif
QUADRANGLE_NAME: DOWN RESERVOIR NW
QUADRANT: NE
WEST_LONGITUDE: -108 26 15.00000
EAST_LONGITUDE: -108 22 30.00000
NORTH_LATITUDE: 48 45 0.00000
SOUTH_LATITUDE: 48 41 15.00000
PRODUCTION_DATE: 2000 10 24
RASTER_ORDER: LEFT_RIGHT/TOP_BOTTOM
BAND_ORGANIZATION: SINGLE FILE
BAND_CONTENT: BLACK&WHITE
BAND_CONTENT: UNDEFINED
BAND_CONTENT: UNDEFINED
BITS_PER_PIXEL: 8
SAMPLES_AND_LINES: 5487 7708
HORIZONTAL_DATUM: NAD83
HORIZONTAL_COORDINATE_SYSTEM: UTM
COORDINATE_ZONE: 12
HORIZONTAL_UNITS: METERS
HORIZONTAL_RESOLUTION: 1.00000
SECONDARY_HORIZONTAL_DATUM: NAD27
XY_ORIGIN: 688003.00000 5403290.00000
SECONDARY_XY_ORIGIN: 688059.98000 5403072.49100
NATION: US
NATION: "SCIENCE
STATE: MT
NW_QUAD_CORNER_XY: 688355.84000 5402832.82800
NE_QUAD_CORNER_XY: 692949.47200 5402989.28200
SE_QUAD_CORNERY_XY: 693188.80200 5396042.73200
SW_QUAD_CORNER_XY: 688589.46600 5395886.23500
SECONDARY_NW_QUAD_XY: 688361.85900 5402613.93100
SECONDARY_NE_QUAD_XY: 692955.63800 5402770.39000
SECONDARY_SE_QUAD_XY: 693194.96900 5395823.84600
SECONDARY_SW_QUAD_XY: 688595.48500 5395667.34300
RMSE_XY: 1.00000
IMAGE_SOURCE: BLACK AND WHITE FILM
SOURCE_IMAGE_ID: NAPP 9144 057
SOURCE_IMAGE_DATE: 1996 08 25
SOURCE_IMAGE_ID: NAPP 9144 114
SOURCE_IMAGE_DATE: 1996 08 25
SOURCE_DEM_DATE: 1975 00 00
AGENCY: WESTERN MAPPING CENTER (WMC)
PRODUCER: UNDEFINED
PRODUCTION_SYSTEM: GIS/MAGIC
COMPRESSION: UNDEFINED
STANDARD_VERSION: 1996 12
METADATA_DATE: 2000 11 14
DATA_FILE_SIZE: 42299283
BYTE_COUNT: 5487
