FILENAME: O4810822.NWS.1116390.tif
QUADRANGLE_NAME: DOWN RESERVOIR NE
QUADRANT: NW
WEST_LONGITUDE: -108 22 30.00000
EAST_LONGITUDE: -108 18 45.00000
NORTH_LATITUDE: 48 45 0.00000
SOUTH_LATITUDE: 48 41 15.00000
PRODUCTION_DATE: 2000 10 24
RASTER_ORDER: LEFT_RIGHT/TOP_BOTTOM
BAND_ORGANIZATION: SINGLE FILE
BAND_CONTENT: BLACK&WHITE
BAND_CONTENT: UNDEFINED
BAND_CONTENT: UNDEFINED
BITS_PER_PIXEL: 8
SAMPLES_AND_LINES: 5493 7711
HORIZONTAL_DATUM: NAD83
HORIZONTAL_COORDINATE_SYSTEM: UTM
COORDINATE_ZONE: 12
HORIZONTAL_UNITS: METERS
HORIZONTAL_RESOLUTION: 1.00000
SECONDARY_HORIZONTAL_DATUM: NAD27
XY_ORIGIN: 692597.00000 5403450.00000
SECONDARY_XY_ORIGIN: 692653.87700 5403232.49800
NATION: US
NATION: "SCIENCE
STATE: MT
NW_QUAD_CORNER_XY: 692949.47200 5402989.28200
NE_QUAD_CORNER_XY: 697543.07400 5403149.50900
SE_QUAD_CORNERY_XY: 697788.11000 5396203.00600
SW_QUAD_CORNER_XY: 693188.80200 5396042.73200
SECONDARY_NW_QUAD_XY: 692955.63800 5402770.39000
SECONDARY_NE_QUAD_XY: 697549.38800 5402930.62300
SECONDARY_SE_QUAD_XY: 697794.42300 5395984.12400
SECONDARY_SW_QUAD_XY: 693194.96900 5395823.84600
RMSE_XY: 0.90000
IMAGE_SOURCE: BLACK AND WHITE FILM
SOURCE_IMAGE_ID: NAPP 9144 078
SOURCE_IMAGE_DATE: 1996 08 25
SOURCE_DEM_DATE: 1975 00 00
AGENCY: WESTERN MAPPING CENTER (WMC)
PRODUCER: UNDEFINED
PRODUCTION_SYSTEM: GIS/MAGIC
COMPRESSION: UNDEFINED
STANDARD_VERSION: 1996 12
METADATA_DATE: 2000 11 30
DATA_FILE_SIZE: 42362016
BYTE_COUNT: 5493
