FILENAME: O4810823.SES.1116503.tif
QUADRANGLE_NAME: EMERICK BENCH
QUADRANT: SE
WEST_LONGITUDE: -108 11 15.00000
EAST_LONGITUDE: -108 7 30.00000
NORTH_LATITUDE: 48 41 15.00000
SOUTH_LATITUDE: 48 37 30.00000
PRODUCTION_DATE: 2000 10 26
RASTER_ORDER: LEFT_RIGHT/TOP_BOTTOM
BAND_ORGANIZATION: SINGLE FILE
BAND_CONTENT: BLACK&WHITE
BAND_CONTENT: UNDEFINED
BAND_CONTENT: UNDEFINED
BITS_PER_PIXEL: 8
SAMPLES_AND_LINES: 5514 7723
HORIZONTAL_DATUM: NAD83
HORIZONTAL_COORDINATE_SYSTEM: UTM
COORDINATE_ZONE: 12
HORIZONTAL_UNITS: METERS
HORIZONTAL_RESOLUTION: 1.00000
SECONDARY_HORIZONTAL_DATUM: NAD27
XY_ORIGIN: 706635.00000 5397007.00000
SECONDARY_XY_ORIGIN: 706691.71300 5396789.66600
NATION: US
NATION: "SCIENCE
STATE: MT
NW_QUAD_CORNER_XY: 706986.63300 5396534.87900
NE_QUAD_CORNER_XY: 711585.84800 5396706.48000
SE_QUAD_CORNERY_XY: 711847.74800 5389760.17600
SW_QUAD_CORNER_XY: 707242.83300 5389588.52700
SECONDARY_NW_QUAD_XY: 706993.24000 5396316.00800
SECONDARY_NE_QUAD_XY: 711592.60200 5396487.61500
SECONDARY_SE_QUAD_XY: 711854.50200 5389541.31700
SECONDARY_SW_QUAD_XY: 707249.44000 5389369.66200
RMSE_XY: 0.80000
IMAGE_SOURCE: BLACK AND WHITE FILM
SOURCE_IMAGE_ID: NAPP 9143 123
SOURCE_IMAGE_DATE: 1996 08 24
SOURCE_DEM_DATE: 1975 00 00
AGENCY: WESTERN MAPPING CENTER (WMC)
PRODUCER: UNDEFINED
PRODUCTION_SYSTEM: GIS/MAGIC
COMPRESSION: UNDEFINED
STANDARD_VERSION: 1996 12
METADATA_DATE: 2000 11 30
DATA_FILE_SIZE: 42590136
BYTE_COUNT: 5514
