FILENAME: O4810825.SES.1115770.tif
QUADRANGLE_NAME: FORT BELKNAP SIDING
QUADRANT: SE
WEST_LONGITUDE: -108 56 15.00000
EAST_LONGITUDE: -108 52 30.00000
NORTH_LATITUDE: 48 33 45.00000
SOUTH_LATITUDE: 48 30 0.00000
PRODUCTION_DATE: 2000 10 26
RASTER_ORDER: LEFT_RIGHT/TOP_BOTTOM
BAND_ORGANIZATION: SINGLE FILE
BAND_CONTENT: BLACK&WHITE
BAND_CONTENT: UNDEFINED
BAND_CONTENT: UNDEFINED
BITS_PER_PIXEL: 8
SAMPLES_AND_LINES: 5460 7677
HORIZONTAL_DATUM: NAD83
HORIZONTAL_COORDINATE_SYSTEM: UTM
COORDINATE_ZONE: 12
HORIZONTAL_UNITS: METERS
HORIZONTAL_RESOLUTION: 1.00000
SECONDARY_HORIZONTAL_DATUM: NAD27
XY_ORIGIN: 651815.00000 5381303.00000
SECONDARY_XY_ORIGIN: 651872.79800 5381085.67300
NATION: US
NATION: "SCIENCE
STATE: MT
NW_QUAD_CORNER_XY: 652169.25900 5380876.51100
NE_QUAD_CORNER_XY: 656780.19200 5381002.88500
SE_QUAD_CORNERY_XY: 656973.33500 5374056.20800
SW_QUAD_CORNER_XY: 652356.71700 5373929.79900
SECONDARY_NW_QUAD_XY: 652174.10300 5380657.59600
SECONDARY_NE_QUAD_XY: 656785.18300 5380783.97500
SECONDARY_SE_QUAD_XY: 656978.32600 5373837.30500
SECONDARY_SW_QUAD_XY: 652361.56100 5373710.89200
RMSE_XY: 0.90000
IMAGE_SOURCE: BLACK AND WHITE FILM
SOURCE_IMAGE_ID: NAPP 9147 149
SOURCE_IMAGE_DATE: 1996 08 24
SOURCE_DEM_DATE: 1963 00 00
AGENCY: WESTERN MAPPING CENTER (WMC)
PRODUCER: UNDEFINED
PRODUCTION_SYSTEM: GIS/MAGIC
COMPRESSION: UNDEFINED
STANDARD_VERSION: 1996 12
METADATA_DATE: 2000 11 13
DATA_FILE_SIZE: 41921880
BYTE_COUNT: 5460
