FILENAME: O4810825.NWS.1115769.tif
QUADRANGLE_NAME: FORT BELKNAP SIDING
QUADRANT: NW
WEST_LONGITUDE: -109 0 0.00000
EAST_LONGITUDE: -108 56 15.00000
NORTH_LATITUDE: 48 37 30.00000
SOUTH_LATITUDE: 48 33 45.00000
PRODUCTION_DATE: 2000 10 26
RASTER_ORDER: LEFT_RIGHT/TOP_BOTTOM
BAND_ORGANIZATION: SINGLE FILE
BAND_CONTENT: BLACK&WHITE
BAND_CONTENT: UNDEFINED
BAND_CONTENT: UNDEFINED
BITS_PER_PIXEL: 8
SAMPLES_AND_LINES: 5449 7674
HORIZONTAL_DATUM: NAD83
HORIZONTAL_COORDINATE_SYSTEM: UTM
COORDINATE_ZONE: 12
HORIZONTAL_UNITS: METERS
HORIZONTAL_RESOLUTION: 1.00000
SECONDARY_HORIZONTAL_DATUM: NAD27
XY_ORIGIN: 647022.00000 5388124.00000
SECONDARY_XY_ORIGIN: 647079.67600 5387906.43100
NATION: US
NATION: "SCIENCE
STATE: MT
NW_QUAD_CORNER_XY: 647376.35300 5387700.72200
NE_QUAD_CORNER_XY: 651981.61800 5387823.28800
SE_QUAD_CORNERY_XY: 652169.25900 5380876.51100
SW_QUAD_CORNER_XY: 647558.30300 5380753.91100
SECONDARY_NW_QUAD_XY: 647381.05100 5387481.79600
SECONDARY_NE_QUAD_XY: 651986.46300 5387604.36600
SECONDARY_SE_QUAD_XY: 652174.10300 5380657.59600
SECONDARY_SW_QUAD_XY: 647563.00100 5380534.99200
RMSE_XY: 1.50000
IMAGE_SOURCE: BLACK AND WHITE FILM
SOURCE_IMAGE_ID: NAPP 9147 180
SOURCE_IMAGE_DATE: 1996 08 24
SOURCE_DEM_DATE: 1963 00 00
AGENCY: WESTERN MAPPING CENTER (WMC)
PRODUCER: UNDEFINED
PRODUCTION_SYSTEM: GIS/MAGIC
COMPRESSION: UNDEFINED
STANDARD_VERSION: 1996 12
METADATA_DATE: 2000 11 13
DATA_FILE_SIZE: 41821075
BYTE_COUNT: 5449
