FILENAME: O4810827.SWS.1112789.tif
QUADRANGLE_NAME: GRABLE COULEE
QUADRANT: SW
WEST_LONGITUDE: -108 45 0.00000
EAST_LONGITUDE: -108 41 15.00000
NORTH_LATITUDE: 48 33 45.00000
SOUTH_LATITUDE: 48 30 0.00000
PRODUCTION_DATE: 2000 10 26
RASTER_ORDER: LEFT_RIGHT/TOP_BOTTOM
BAND_ORGANIZATION: SINGLE FILE
BAND_CONTENT: BLACK&WHITE
BAND_CONTENT: UNDEFINED
BAND_CONTENT: UNDEFINED
BITS_PER_PIXEL: 8
SAMPLES_AND_LINES: 5477 7689
HORIZONTAL_DATUM: NAD83
HORIZONTAL_COORDINATE_SYSTEM: UTM
COORDINATE_ZONE: 12
HORIZONTAL_UNITS: METERS
HORIZONTAL_RESOLUTION: 1.00000
SECONDARY_HORIZONTAL_DATUM: NAD27
XY_ORIGIN: 665648.00000 5381705.00000
SECONDARY_XY_ORIGIN: 665705.76100 5381487.84300
NATION: US
NATION: "SCIENCE
STATE: MT
NW_QUAD_CORNER_XY: 666001.98800 5381266.96100
NE_QUAD_CORNER_XY: 670612.85000 5381404.66200
SE_QUAD_CORNERY_XY: 670823.05000 5374458.09200
SW_QUAD_CORNER_XY: 666206.50200 5374320.35400
SECONDARY_NW_QUAD_XY: 666007.27300 5381048.05800
SECONDARY_NE_QUAD_XY: 670618.28200 5381185.76400
SECONDARY_SE_QUAD_XY: 670828.48100 5374239.20200
SECONDARY_SW_QUAD_XY: 666211.78700 5374101.45900
RMSE_XY: 0.80000
IMAGE_SOURCE: BLACK AND WHITE FILM
SOURCE_IMAGE_ID: NAPP 9144 236
SOURCE_IMAGE_DATE: 1996 08 25
SOURCE_DEM_DATE: 1963 00 00
AGENCY: WESTERN MAPPING CENTER (WMC)
PRODUCER: UNDEFINED
PRODUCTION_SYSTEM: GIS/MAGIC
COMPRESSION: UNDEFINED
STANDARD_VERSION: 1996 12
METADATA_DATE: 2000 11 13
DATA_FILE_SIZE: 42118130
BYTE_COUNT: 5477
