FILENAME: O4810829.NWS.1114571.tif
QUADRANGLE_NAME: DOWN RESERVOIR SW
QUADRANT: NW
WEST_LONGITUDE: -108 30 0.00000
EAST_LONGITUDE: -108 26 15.00000
NORTH_LATITUDE: 48 37 30.00000
SOUTH_LATITUDE: 48 33 45.00000
PRODUCTION_DATE: 2000 10 25
RASTER_ORDER: LEFT_RIGHT/TOP_BOTTOM
BAND_ORGANIZATION: SINGLE FILE
BAND_CONTENT: BLACK&WHITE
BAND_CONTENT: UNDEFINED
BAND_CONTENT: UNDEFINED
BITS_PER_PIXEL: 8
SAMPLES_AND_LINES: 5493 7704
HORIZONTAL_DATUM: NAD83
HORIZONTAL_COORDINATE_SYSTEM: UTM
COORDINATE_ZONE: 12
HORIZONTAL_UNITS: METERS
HORIZONTAL_RESOLUTION: 1.00000
SECONDARY_HORIZONTAL_DATUM: NAD27
XY_ORIGIN: 683865.00000 5389240.00000
SECONDARY_XY_ORIGIN: 683922.35200 5389022.76300
NATION: US
NATION: "SCIENCE
STATE: MT
NW_QUAD_CORNER_XY: 684217.80200 5388786.93700
NE_QUAD_CORNER_XY: 688822.86600 5388939.70200
SE_QUAD_CORNERY_XY: 689056.04000 5381993.23000
SW_QUAD_CORNER_XY: 684445.28200 5381840.42300
SECONDARY_NW_QUAD_XY: 684223.67400 5388568.04600
SECONDARY_NE_QUAD_XY: 688828.88500 5388720.81600
SECONDARY_SE_QUAD_XY: 689062.05900 5381774.35100
SECONDARY_SW_QUAD_XY: 684451.15500 5381621.53900
RMSE_XY: 0.90000
IMAGE_SOURCE: BLACK AND WHITE FILM
SOURCE_IMAGE_ID: NAPP 9144 118
SOURCE_IMAGE_DATE: 1996 08 25
SOURCE_IMAGE_ID: NAPP 9144 116
SOURCE_IMAGE_DATE: 1996 08 25
SOURCE_DEM_DATE: 1975 00 00
AGENCY: WESTERN MAPPING CENTER (WMC)
PRODUCER: UNDEFINED
PRODUCTION_SYSTEM: GIS/MAGIC
COMPRESSION: UNDEFINED
STANDARD_VERSION: 1996 12
METADATA_DATE: 2000 11 14
DATA_FILE_SIZE: 42323565
BYTE_COUNT: 5493
