FILENAME: O4810830.SWS.1114613.tif
QUADRANGLE_NAME: DOWN RESERVOIR
QUADRANT: SW
WEST_LONGITUDE: -108 22 30.00000
EAST_LONGITUDE: -108 18 45.00000
NORTH_LATITUDE: 48 33 45.00000
SOUTH_LATITUDE: 48 30 0.00000
PRODUCTION_DATE: 2000 10 24
RASTER_ORDER: LEFT_RIGHT/TOP_BOTTOM
BAND_ORGANIZATION: SINGLE FILE
BAND_CONTENT: BLACK&WHITE
BAND_CONTENT: UNDEFINED
BAND_CONTENT: UNDEFINED
BITS_PER_PIXEL: 8
SAMPLES_AND_LINES: 5509 7712
HORIZONTAL_DATUM: NAD83
HORIZONTAL_COORDINATE_SYSTEM: UTM
COORDINATE_ZONE: 12
HORIZONTAL_UNITS: METERS
HORIZONTAL_RESOLUTION: 1.00000
SECONDARY_HORIZONTAL_DATUM: NAD27
XY_ORIGIN: 693314.00000 5382611.00000
SECONDARY_XY_ORIGIN: 693371.29600 5382393.93800
NATION: US
NATION: "SCIENCE
STATE: MT
NW_QUAD_CORNER_XY: 693666.76900 5382149.81400
NE_QUAD_CORNER_XY: 698277.47000 5382310.17600
SE_QUAD_CORNERY_XY: 698521.79500 5375363.85000
SW_QUAD_CORNER_XY: 693905.40500 5375203.44500
SECONDARY_NW_QUAD_XY: 693672.93500 5381930.94000
SECONDARY_NE_QUAD_XY: 698283.78300 5382091.30700
SECONDARY_SE_QUAD_XY: 698528.10700 5375144.98800
SECONDARY_SW_QUAD_XY: 693911.57100 5374984.57800
RMSE_XY: 0.90000
IMAGE_SOURCE: BLACK AND WHITE FILM
SOURCE_IMAGE_ID: NAPP 9144 084
SOURCE_IMAGE_DATE: 1996 08 25
SOURCE_DEM_DATE: 1975 00 00
AGENCY: WESTERN MAPPING CENTER (WMC)
PRODUCER: UNDEFINED
PRODUCTION_SYSTEM: GIS/MAGIC
COMPRESSION: UNDEFINED
STANDARD_VERSION: 1996 12
METADATA_DATE: 2000 11 14
DATA_FILE_SIZE: 42490917
BYTE_COUNT: 5509
