FILENAME: O4810830.SES.1114612.tif
QUADRANGLE_NAME: DOWN RESERVOIR
QUADRANT: SE
WEST_LONGITUDE: -108 18 45.00000
EAST_LONGITUDE: -108 15 0.00000
NORTH_LATITUDE: 48 33 45.00000
SOUTH_LATITUDE: 48 30 0.00000
PRODUCTION_DATE: 2000 10 24
RASTER_ORDER: LEFT_RIGHT/TOP_BOTTOM
BAND_ORGANIZATION: SINGLE FILE
BAND_CONTENT: BLACK&WHITE
BAND_CONTENT: UNDEFINED
BAND_CONTENT: UNDEFINED
BITS_PER_PIXEL: 8
SAMPLES_AND_LINES: 5515 7716
HORIZONTAL_DATUM: NAD83
HORIZONTAL_COORDINATE_SYSTEM: UTM
COORDINATE_ZONE: 12
HORIZONTAL_UNITS: METERS
HORIZONTAL_RESOLUTION: 1.00000
SECONDARY_HORIZONTAL_DATUM: NAD27
XY_ORIGIN: 697925.00000 5382775.00000
SECONDARY_XY_ORIGIN: 697982.20200 5382557.95300
NATION: US
NATION: "SCIENCE
STATE: MT
NW_QUAD_CORNER_XY: 698277.47000 5382310.17600
NE_QUAD_CORNER_XY: 702888.14200 5382474.31500
SE_QUAD_CORNERY_XY: 703138.15500 5375528.03300
SW_QUAD_CORNER_XY: 698521.79500 5375363.85000
SECONDARY_NW_QUAD_XY: 698283.78300 5382091.30700
SECONDARY_NE_QUAD_XY: 702894.60200 5382255.45100
SECONDARY_SE_QUAD_XY: 703144.61500 5375309.17700
SECONDARY_SW_QUAD_XY: 698528.10700 5375144.98800
RMSE_XY: 0.80000
IMAGE_SOURCE: BLACK AND WHITE FILM
SOURCE_IMAGE_ID: NAPP 9144 087
SOURCE_IMAGE_DATE: 1996 08 25
SOURCE_DEM_DATE: 1975 00 00
AGENCY: WESTERN MAPPING CENTER (WMC)
PRODUCER: UNDEFINED
PRODUCTION_SYSTEM: GIS/MAGIC
COMPRESSION: UNDEFINED
STANDARD_VERSION: 1996 12
METADATA_DATE: 2000 11 14
DATA_FILE_SIZE: 42559255
BYTE_COUNT: 5515
