FILENAME: O4810832.SES.1116531.tif
QUADRANGLE_NAME: HUBERT HILL SE
QUADRANT: SE
WEST_LONGITUDE: -108 3 45.00000
EAST_LONGITUDE: -108 0 0.00000
NORTH_LATITUDE: 48 33 45.00000
SOUTH_LATITUDE: 48 30 0.00000
PRODUCTION_DATE: 2000 10 27
RASTER_ORDER: LEFT_RIGHT/TOP_BOTTOM
BAND_ORGANIZATION: SINGLE FILE
BAND_CONTENT: BLACK&WHITE
BAND_CONTENT: UNDEFINED
BAND_CONTENT: UNDEFINED
BITS_PER_PIXEL: 8
SAMPLES_AND_LINES: 5536 7730
HORIZONTAL_DATUM: NAD83
HORIZONTAL_COORDINATE_SYSTEM: UTM
COORDINATE_ZONE: 12
HORIZONTAL_UNITS: METERS
HORIZONTAL_RESOLUTION: 1.00000
SECONDARY_HORIZONTAL_DATUM: NAD27
XY_ORIGIN: 716369.00000 5383469.00000
SECONDARY_XY_ORIGIN: 716425.83100 5383252.03600
NATION: US
NATION: "SCIENCE
STATE: MT
NW_QUAD_CORNER_XY: 716719.97500 5382989.40400
NE_QUAD_CORNER_XY: 721330.52300 5383168.65800
SE_QUAD_CORNERY_XY: 721603.29700 5376222.56300
SW_QUAD_CORNER_XY: 716987.05800 5376043.26100
SECONDARY_NW_QUAD_XY: 716726.87500 5382770.55600
SECONDARY_NE_QUAD_XY: 721337.57000 5382949.81600
SECONDARY_SE_QUAD_XY: 721610.34400 5376003.72900
SECONDARY_SW_QUAD_XY: 716993.95800 5375824.42100
RMSE_XY: 1.10000
IMAGE_SOURCE: BLACK AND WHITE FILM
SOURCE_IMAGE_ID: NAPP 9142 135
SOURCE_IMAGE_DATE: 1996 08 24
SOURCE_DEM_DATE: 1975 00 00
AGENCY: WESTERN MAPPING CENTER (WMC)
PRODUCER: UNDEFINED
PRODUCTION_SYSTEM: GIS/MAGIC
COMPRESSION: UNDEFINED
STANDARD_VERSION: 1996 12
METADATA_DATE: 2000 11 14
DATA_FILE_SIZE: 42798816
BYTE_COUNT: 5536
