FILENAME: O4810832.NWS.1116530.tif
QUADRANGLE_NAME: HUBERT HILL SE
QUADRANT: NW
WEST_LONGITUDE: -108 7 30.00000
EAST_LONGITUDE: -108 3 45.00000
NORTH_LATITUDE: 48 37 30.00000
SOUTH_LATITUDE: 48 33 45.00000
PRODUCTION_DATE: 2000 10 27
RASTER_ORDER: LEFT_RIGHT/TOP_BOTTOM
BAND_ORGANIZATION: SINGLE FILE
BAND_CONTENT: BLACK&WHITE
BAND_CONTENT: UNDEFINED
BAND_CONTENT: UNDEFINED
BITS_PER_PIXEL: 8
SAMPLES_AND_LINES: 5525 7726
HORIZONTAL_DATUM: NAD83
HORIZONTAL_COORDINATE_SYSTEM: UTM
COORDINATE_ZONE: 12
HORIZONTAL_UNITS: METERS
HORIZONTAL_RESOLUTION: 1.00000
SECONDARY_HORIZONTAL_DATUM: NAD27
XY_ORIGIN: 711496.00000 5390236.00000
SECONDARY_XY_ORIGIN: 711552.76700 5390018.84100
NATION: US
NATION: "SCIENCE
STATE: MT
NW_QUAD_CORNER_XY: 711847.74800 5389760.17600
NE_QUAD_CORNER_XY: 716452.63200 5389935.60300
SE_QUAD_CORNERY_XY: 716719.97500 5382989.40400
SW_QUAD_CORNER_XY: 712109.39500 5382813.92900
SECONDARY_NW_QUAD_XY: 711854.50200 5389541.31700
SECONDARY_NE_QUAD_XY: 716459.53300 5389716.74900
SECONDARY_SE_QUAD_XY: 716726.87500 5382770.55600
SECONDARY_SW_QUAD_XY: 712116.14900 5382595.07600
RMSE_XY: 0.90000
IMAGE_SOURCE: BLACK AND WHITE FILM
SOURCE_IMAGE_ID: NAPP 9142 166
SOURCE_IMAGE_DATE: 1996 08 24
SOURCE_IMAGE_ID: NAPP 9142 165
SOURCE_IMAGE_DATE: 1996 08 24
SOURCE_DEM_DATE: 1975 00 00
AGENCY: WESTERN MAPPING CENTER (WMC)
PRODUCER: UNDEFINED
PRODUCTION_SYSTEM: GIS/MAGIC
COMPRESSION: UNDEFINED
STANDARD_VERSION: 1996 12
METADATA_DATE: 2000 11 14
DATA_FILE_SIZE: 42691675
BYTE_COUNT: 5525
