FILENAME: O4810833.SES.1115758.tif
QUADRANGLE_NAME: BIG COULEE
QUADRANT: SE
WEST_LONGITUDE: -108 56 15.00000
EAST_LONGITUDE: -108 52 30.00000
NORTH_LATITUDE: 48 26 15.00000
SOUTH_LATITUDE: 48 22 30.00000
PRODUCTION_DATE: 2000 10 27
RASTER_ORDER: LEFT_RIGHT/TOP_BOTTOM
BAND_ORGANIZATION: SINGLE FILE
BAND_CONTENT: BLACK&WHITE
BAND_CONTENT: UNDEFINED
BAND_CONTENT: UNDEFINED
BITS_PER_PIXEL: 8
SAMPLES_AND_LINES: 5472 7678
HORIZONTAL_DATUM: NAD83
HORIZONTAL_COORDINATE_SYSTEM: UTM
COORDINATE_ZONE: 12
HORIZONTAL_UNITS: METERS
HORIZONTAL_RESOLUTION: 1.00000
SECONDARY_HORIZONTAL_DATUM: NAD27
XY_ORIGIN: 652189.00000 5367410.00000
SECONDARY_XY_ORIGIN: 652247.02600 5367192.98100
NATION: US
NATION: "SCIENCE
STATE: MT
NW_QUAD_CORNER_XY: 652543.99300 5366983.15400
NE_QUAD_CORNER_XY: 657166.29000 5367109.59600
SE_QUAD_CORNERY_XY: 657359.05600 5360163.04900
SW_QUAD_CORNER_XY: 652731.08500 5360036.57500
SECONDARY_NW_QUAD_XY: 652548.83700 5366764.25500
SECONDARY_NE_QUAD_XY: 657171.28100 5366890.70100
SECONDARY_SE_QUAD_XY: 657364.04700 5359944.16400
SECONDARY_SW_QUAD_XY: 652735.92900 5359817.68600
RMSE_XY: 1.60000
IMAGE_SOURCE: BLACK AND WHITE FILM
SOURCE_IMAGE_ID: NAPP 9147 145
SOURCE_IMAGE_DATE: 1996 08 24
SOURCE_IMAGE_ID: NAPP 9147 147
SOURCE_IMAGE_DATE: 1996 08 24
SOURCE_DEM_DATE: 1963 00 00
AGENCY: WESTERN MAPPING CENTER (WMC)
PRODUCER: UNDEFINED
PRODUCTION_SYSTEM: GIS/MAGIC
COMPRESSION: UNDEFINED
STANDARD_VERSION: 1996 12
METADATA_DATE: 2000 11 10
DATA_FILE_SIZE: 42019488
BYTE_COUNT: 5472
