FILENAME: O4810833.NWS.1115757.tif
QUADRANGLE_NAME: BIG COULEE
QUADRANT: NW
WEST_LONGITUDE: -109 0 0.00000
EAST_LONGITUDE: -108 56 15.00000
NORTH_LATITUDE: 48 30 0.00000
SOUTH_LATITUDE: 48 26 15.00000
PRODUCTION_DATE: 2000 10 27
RASTER_ORDER: LEFT_RIGHT/TOP_BOTTOM
BAND_ORGANIZATION: SINGLE FILE
BAND_CONTENT: BLACK&WHITE
BAND_CONTENT: UNDEFINED
BAND_CONTENT: UNDEFINED
BITS_PER_PIXEL: 8
SAMPLES_AND_LINES: 5460 7674
HORIZONTAL_DATUM: NAD83
HORIZONTAL_COORDINATE_SYSTEM: UTM
COORDINATE_ZONE: 12
HORIZONTAL_UNITS: METERS
HORIZONTAL_RESOLUTION: 1.00000
SECONDARY_HORIZONTAL_DATUM: NAD27
XY_ORIGIN: 647385.00000 5374230.00000
SECONDARY_XY_ORIGIN: 647442.94600 5374012.80400
NATION: US
NATION: "SCIENCE
STATE: MT
NW_QUAD_CORNER_XY: 647740.07700 5373807.16700
NE_QUAD_CORNER_XY: 652356.71700 5373929.79900
SE_QUAD_CORNERY_XY: 652543.99300 5366983.15400
SW_QUAD_CORNER_XY: 647921.67400 5366860.48900
SECONDARY_NW_QUAD_XY: 647744.77500 5373588.25600
SECONDARY_NE_QUAD_XY: 652361.56100 5373710.89200
SECONDARY_SE_QUAD_XY: 652548.83700 5366764.25500
SECONDARY_SW_QUAD_XY: 647926.37100 5366641.58700
RMSE_XY: 1.20000
IMAGE_SOURCE: BLACK AND WHITE FILM
SOURCE_IMAGE_ID: NAPP 9147 184
SOURCE_IMAGE_DATE: 1996 08 24
SOURCE_IMAGE_ID: NAPP 9129 012
SOURCE_IMAGE_DATE: 1996 07 27
SOURCE_DEM_DATE: 1963 00 00
AGENCY: WESTERN MAPPING CENTER (WMC)
PRODUCER: UNDEFINED
PRODUCTION_SYSTEM: GIS/MAGIC
COMPRESSION: UNDEFINED
STANDARD_VERSION: 1996 12
METADATA_DATE: 2000 11 10
DATA_FILE_SIZE: 41905500
BYTE_COUNT: 5460
