FILENAME: O4810834.SWS.1112749.tif
QUADRANGLE_NAME: FORT BELKNAP
AGENCY
QUADRANT: SW
WEST_LONGITUDE: -108 52 30.00000
EAST_LONGITUDE: -108 48 45.00000
NORTH_LATITUDE: 48 26 15.00000
SOUTH_LATITUDE: 48 22 30.00000
PRODUCTION_DATE: 2000 10 26
RASTER_ORDER: LEFT_RIGHT/TOP_BOTTOM
BAND_ORGANIZATION: SINGLE FILE
BAND_CONTENT: BLACK&WHITE
BAND_CONTENT: UNDEFINED
BAND_CONTENT: UNDEFINED
BITS_PER_PIXEL: 8
SAMPLES_AND_LINES: 5477 7681
HORIZONTAL_DATUM: NAD83
HORIZONTAL_COORDINATE_SYSTEM: UTM
COORDINATE_ZONE: 12
HORIZONTAL_UNITS: METERS
HORIZONTAL_RESOLUTION: 1.00000
SECONDARY_HORIZONTAL_DATUM: NAD27
XY_ORIGIN: 656812.00000 5367540.00000
SECONDARY_XY_ORIGIN: 656870.00900 5367323.01500
NATION: US
NATION: "SCIENCE
STATE: MT
NW_QUAD_CORNER_XY: 657166.29000 5367109.59600
NE_QUAD_CORNER_XY: 661788.56400 5367239.81500
SE_QUAD_CORNERY_XY: 661987.00500 5360293.30200
SW_QUAD_CORNER_XY: 657359.05600 5360163.04900
SECONDARY_NW_QUAD_XY: 657171.28100 5366890.70100
SECONDARY_NE_QUAD_XY: 661793.70200 5367020.92500
SECONDARY_SE_QUAD_XY: 661992.14300 5360074.42100
SECONDARY_SW_QUAD_XY: 657364.04700 5359944.16400
RMSE_XY: 1.70000
IMAGE_SOURCE: BLACK AND WHITE FILM
SOURCE_IMAGE_ID: NAPP 9157 090
SOURCE_IMAGE_DATE: 1997 09 05
SOURCE_DEM_DATE: 1963 00 00
AGENCY: WESTERN MAPPING CENTER (WMC)
PRODUCER: UNDEFINED
PRODUCTION_SYSTEM: GIS/MAGIC
COMPRESSION: UNDEFINED
STANDARD_VERSION: 1996 12
METADATA_DATE: 2000 11 13
DATA_FILE_SIZE: 42074314
BYTE_COUNT: 5477
