FILENAME: O4810834.NWS.1112747.tif
QUADRANGLE_NAME: FORT BELKNAP
AGENCY
QUADRANT: NW
WEST_LONGITUDE: -108 52 30.00000
EAST_LONGITUDE: -108 48 45.00000
NORTH_LATITUDE: 48 30 0.00000
SOUTH_LATITUDE: 48 26 15.00000
PRODUCTION_DATE: 2000 10 26
RASTER_ORDER: LEFT_RIGHT/TOP_BOTTOM
BAND_ORGANIZATION: SINGLE FILE
BAND_CONTENT: BLACK&WHITE
BAND_CONTENT: UNDEFINED
BAND_CONTENT: UNDEFINED
BITS_PER_PIXEL: 8
SAMPLES_AND_LINES: 5471 7682
HORIZONTAL_DATUM: NAD83
HORIZONTAL_COORDINATE_SYSTEM: UTM
COORDINATE_ZONE: 12
HORIZONTAL_UNITS: METERS
HORIZONTAL_RESOLUTION: 1.00000
SECONDARY_HORIZONTAL_DATUM: NAD27
XY_ORIGIN: 656619.00000 5374487.00000
SECONDARY_XY_ORIGIN: 656676.91100 5374269.89800
NATION: US
NATION: "SCIENCE
STATE: MT
NW_QUAD_CORNER_XY: 656973.33500 5374056.20800
NE_QUAD_CORNER_XY: 661589.93000 5374186.39300
SE_QUAD_CORNERY_XY: 661788.56400 5367239.81500
SW_QUAD_CORNER_XY: 657166.29000 5367109.59600
SECONDARY_NW_QUAD_XY: 656978.32600 5373837.30500
SECONDARY_NE_QUAD_XY: 661595.06800 5373967.49400
SECONDARY_SE_QUAD_XY: 661793.70200 5367020.92500
SECONDARY_SW_QUAD_XY: 657171.28100 5366890.70100
RMSE_XY: 0.90000
IMAGE_SOURCE: BLACK AND WHITE FILM
SOURCE_IMAGE_ID: NAPP 9157 092
SOURCE_IMAGE_DATE: 1997 09 05
SOURCE_DEM_DATE: 1963 00 00
AGENCY: WESTERN MAPPING CENTER (WMC)
PRODUCER: UNDEFINED
PRODUCTION_SYSTEM: GIS/MAGIC
COMPRESSION: UNDEFINED
STANDARD_VERSION: 1996 12
METADATA_DATE: 2000 11 13
DATA_FILE_SIZE: 42033693
BYTE_COUNT: 5471
