FILENAME: O4810835.SES.1112792.tif
QUADRANGLE_NAME: THREEMILE RESERVOIR
QUADRANT: SE
WEST_LONGITUDE: -108 41 15.00000
EAST_LONGITUDE: -108 37 30.00000
NORTH_LATITUDE: 48 26 15.00000
SOUTH_LATITUDE: 48 22 30.00000
PRODUCTION_DATE: 2000 10 26
RASTER_ORDER: LEFT_RIGHT/TOP_BOTTOM
BAND_ORGANIZATION: SINGLE FILE
BAND_CONTENT: BLACK&WHITE
BAND_CONTENT: UNDEFINED
BAND_CONTENT: UNDEFINED
BITS_PER_PIXEL: 8
SAMPLES_AND_LINES: 5493 7693
HORIZONTAL_DATUM: NAD83
HORIZONTAL_COORDINATE_SYSTEM: UTM
COORDINATE_ZONE: 12
HORIZONTAL_UNITS: METERS
HORIZONTAL_RESOLUTION: 1.00000
SECONDARY_HORIZONTAL_DATUM: NAD27
XY_ORIGIN: 670679.00000 5367954.00000
SECONDARY_XY_ORIGIN: 670736.91400 5367737.09200
NATION: US
NATION: "SCIENCE
STATE: MT
NW_QUAD_CORNER_XY: 671033.04500 5367511.58600
NE_QUAD_CORNER_XY: 675655.24900 5367653.13900
SE_QUAD_CORNERY_XY: 675870.71400 5360706.73300
SW_QUAD_CORNER_XY: 671242.83500 5360565.14400
SECONDARY_NW_QUAD_XY: 671038.47600 5367292.70400
SECONDARY_NE_QUAD_XY: 675660.82700 5367434.26100
SECONDARY_SE_QUAD_XY: 675876.29200 5360487.86500
SECONDARY_SW_QUAD_XY: 671248.26600 5360346.27100
RMSE_XY: 0.80000
IMAGE_SOURCE: BLACK AND WHITE FILM
SOURCE_IMAGE_ID: NAPP 9144 199
SOURCE_IMAGE_DATE: 1996 08 25
SOURCE_DEM_DATE: 1963 00 00
AGENCY: WESTERN MAPPING CENTER (WMC)
PRODUCER: UNDEFINED
PRODUCTION_SYSTEM: GIS/MAGIC
COMPRESSION: UNDEFINED
STANDARD_VERSION: 1996 12
METADATA_DATE: 2000 11 13
DATA_FILE_SIZE: 42263142
BYTE_COUNT: 5493
