FILENAME: O4810836.SES.1112845.tif
QUADRANGLE_NAME: SAVOY
QUADRANT: SE
WEST_LONGITUDE: -108 33 45.00000
EAST_LONGITUDE: -108 30 0.00000
NORTH_LATITUDE: 48 26 15.00000
SOUTH_LATITUDE: 48 22 30.00000
PRODUCTION_DATE: 2000 10 26
RASTER_ORDER: LEFT_RIGHT/TOP_BOTTOM
BAND_ORGANIZATION: SINGLE FILE
BAND_CONTENT: BLACK&WHITE
BAND_CONTENT: UNDEFINED
BAND_CONTENT: UNDEFINED
BITS_PER_PIXEL: 8
SAMPLES_AND_LINES: 5504 7700
HORIZONTAL_DATUM: NAD83
HORIZONTAL_COORDINATE_SYSTEM: UTM
COORDINATE_ZONE: 12
HORIZONTAL_UNITS: METERS
HORIZONTAL_RESOLUTION: 1.00000
SECONDARY_HORIZONTAL_DATUM: NAD27
XY_ORIGIN: 679924.00000 5368248.00000
SECONDARY_XY_ORIGIN: 679981.78300 5368031.10800
NATION: US
NATION: "SCIENCE
STATE: MT
NW_QUAD_CORNER_XY: 680277.42800 5367798.47000
NE_QUAD_CORNER_XY: 684899.58100 5367947.57900
SE_QUAD_CORNERY_XY: 685126.39800 5361001.25000
SW_QUAD_CORNER_XY: 680498.56900 5360852.10100
SECONDARY_NW_QUAD_XY: 680283.15300 5367579.59700
SECONDARY_NE_QUAD_XY: 684905.45300 5367728.71100
SECONDARY_SE_QUAD_XY: 685132.27000 5360782.39100
SECONDARY_SW_QUAD_XY: 680504.29300 5360633.23800
RMSE_XY: 0.80000
IMAGE_SOURCE: BLACK AND WHITE FILM
SOURCE_IMAGE_ID: NAPP 9138 115
SOURCE_IMAGE_DATE: 1996 08 23
SOURCE_DEM_DATE: 1963 00 00
AGENCY: WESTERN MAPPING CENTER (WMC)
PRODUCER: UNDEFINED
PRODUCTION_SYSTEM: GIS/MAGIC
COMPRESSION: UNDEFINED
STANDARD_VERSION: 1996 12
METADATA_DATE: 2000 11 13
DATA_FILE_SIZE: 42386304
BYTE_COUNT: 5504
