FILENAME: O4810836.NWS.1112832.tif
QUADRANGLE_NAME: SAVOY
QUADRANT: NW
WEST_LONGITUDE: -108 37 30.00000
EAST_LONGITUDE: -108 33 45.00000
NORTH_LATITUDE: 48 30 0.00000
SOUTH_LATITUDE: 48 26 15.00000
PRODUCTION_DATE: 2000 10 25
RASTER_ORDER: LEFT_RIGHT/TOP_BOTTOM
BAND_ORGANIZATION: SINGLE FILE
BAND_CONTENT: BLACK&WHITE
BAND_CONTENT: UNDEFINED
BAND_CONTENT: UNDEFINED
BITS_PER_PIXEL: 8
SAMPLES_AND_LINES: 5493 7696
HORIZONTAL_DATUM: NAD83
HORIZONTAL_COORDINATE_SYSTEM: UTM
COORDINATE_ZONE: 12
HORIZONTAL_UNITS: METERS
HORIZONTAL_RESOLUTION: 1.00000
SECONDARY_HORIZONTAL_DATUM: NAD27
XY_ORIGIN: 675086.00000 5375045.00000
SECONDARY_XY_ORIGIN: 675143.75100 5374828.02500
NATION: US
NATION: "SCIENCE
STATE: MT
NW_QUAD_CORNER_XY: 675439.57300 5374599.60700
NE_QUAD_CORNER_XY: 680056.07100 5374744.90000
SE_QUAD_CORNERY_XY: 680277.42800 5367798.47000
SW_QUAD_CORNER_XY: 675655.24900 5367653.13900
SECONDARY_NW_QUAD_XY: 675445.15100 5374380.72200
SECONDARY_NE_QUAD_XY: 680061.79600 5374526.01900
SECONDARY_SE_QUAD_XY: 680283.15300 5367579.59700
SECONDARY_SW_QUAD_XY: 675660.82700 5367434.26100
RMSE_XY: 1.20000
IMAGE_SOURCE: BLACK AND WHITE FILM
SOURCE_IMAGE_ID: NAPP 9138 154
SOURCE_IMAGE_DATE: 1996 08 23
SOURCE_DEM_DATE: 1963 00 00
AGENCY: WESTERN MAPPING CENTER (WMC)
PRODUCER: UNDEFINED
PRODUCTION_SYSTEM: GIS/MAGIC
COMPRESSION: UNDEFINED
STANDARD_VERSION: 1996 12
METADATA_DATE: 2000 11 13
DATA_FILE_SIZE: 42279621
BYTE_COUNT: 5493
